Workbook

Sheet DADOS - CONTRATO 024.2023
A1: NÚMERO CONTRATO | B1: TERMO ADITIVO | C1: CREDOR | D1: CPF/CNPJ | E1: INICIO VIGÊNCIA | F1: FIM VIGÊNCIA | G1: VALOR DO CONTRATO | H1: NOTA DE EMPENHO | I1: VALOR EMPENHADO | J1: NOTA DE EMPENHO | K1: VALOR EMPENHADO | L1: NOTA DE EMPENHO EXERCÍCIOS ANTERIORES | M1: valor empenhado em exercícios anteriores | N1: FALTA EMPENHAR | O1: NATUREZA DA DESPESA | P1: GESTOR DO CONTRATO | Q1: ENVIO DA ORDEM INICIAL DE SERVIÇO
A2: 25/2024 | B2: 1 | C2: ABART ENGENHARIA E EXECUÇÃO LTDA | D2: 38.198.860/0001-5 | E2: 26/12/2024 | F2: 24 MESES APÓS A DATA DA ASSINATURA DO CONTRATO | G2: =I2+K2 -> 2435519.9 | H2: 2024NE01527 | I2: 2499120.3 | J2: 2025NP00345 | K2: -63600.38 | N2: =G2-I2-M2-K2 -> 1.0913936e-10 | O2: 449051 | P2: JOÃO ELIAS | Q2: SIM
M3: .
A4: Observações:
A5: I) Abrir expediente GED para pagamento de cada nota fiscal com a devida documentação e anexar esta planilha preenchida ao processo
A6: II) Enviar esta planilha atualizada a cada nova NF recebida para os e-mails: contratos@mpal.mp.br e fellipe.tavares@mpal.mp.br

Sheet ACOMPANHAMENTO DE PAGAMENTOS
A1: Nº NOTA FISCAL | B1: DATA DA NF | C1: COMPETÊNCIA DO SERVIÇO | D1: VALOR NF | E1: SALDO DO CONTRATO | F1: SALDO DO EMPENHO (SALDO A ANULAR SE CONTRATO FINALIZADO) | G1: NÚMERO CONTRATO | H1: EXECUTADO | I1: EXECUTADO ACUMULADO
A2: 210 | B2: 14/02/2025 | C2: 02/2025 | D2: 136014 | E2: ='DADOS - CONTRATO 024.2023'!G2-D2 -> 2299505.9 | F2: ='DADOS - CONTRATO 024.2023'!G2-D2 -> 2299505.9 | G2: ='DADOS - CONTRATO 024.2023'!A2 -> 25/2024 | H2: =D2/'DADOS - CONTRATO 024.2023'!$G$2 -> 0.055845981 | I2: =SUM($H$2:H2) -> 0.055845981
A3: 228 | B3: 25/03/2025 | C3: 03/2025 | D3: 48697.05 | E3: =E2-D3 -> 2250808.9 | F3: =F2-D3 -> 2250808.9 | G3: =G2 -> 25/2024 | H3: =D3/'DADOS - CONTRATO 024.2023'!$G$2 -> 0.019994519 | I3: =SUM($H$2:H3) -> 0.0758405
A4: 245 | B4: 23/04/2025 | C4: 04/2025 | D4: 51530.36 | E4: =E3-D4 -> 2199278.5 | F4: =F3-D4 -> 2199278.5 | G4: =G3 -> 25/2024 | H4: =D4/'DADOS - CONTRATO 024.2023'!$G$2 -> 0.021157848 | I4: =SUM($H$2:H4) -> 0.096998348
A5: 264 | B5: 03/06/2025 | C5: 05/2025 | D5: 47380.4 | E5: =E4-D5 -> 2151898.1 | F5: =F4-D5 -> 2151898.1 | G5: =G4 -> 25/2024 | H5: =D5/'DADOS - CONTRATO 024.2023'!$G$2 -> 0.019453916 | I5: =SUM($H$2:H5) -> 0.11645226
A6: 269 | B6: 16/06/2025 | C6: 06/2025 | D6: 72351.67 | E6: =E5-D6 -> 2079546.5 | F6: =F5-D6 -> 2079546.5 | G6: =G5 -> 25/2024 | H6: =D6/'DADOS - CONTRATO 024.2023'!$G$2 -> 0.029706868 | I6: =SUM($H$2:H6) -> 0.14615913
A7: 288 | B7: 18/07/2025 | C7: 07/2025 | D7: 163313.32 | E7: =E6-D7 -> 1916233.1 | F7: =F6-D7 -> 1916233.1 | G7: =G6 -> 25/2024 | H7: =D7/'DADOS - CONTRATO 024.2023'!$G$2 -> 0.067054807 | I7: =SUM($H$2:H7) -> 0.21321394
A8: 312 | B8: 11/09/2025 | C8: 09/2025 | D8: 124976.21 | E8: =E7-D8 -> 1791256.9 | F8: =F7-D8 -> 1791256.9 | G8: =G7 -> 25/2024 | H8: =D8/'DADOS - CONTRATO 024.2023'!$G$2 -> 0.051313975 | I8: =SUM($H$2:H8) -> 0.26452791
A9: 334 | B9: 29/10/2025 | C9: 10/2025 | D9: 56123.65 | E9: =E8-D9 -> 1735133.3 | F9: =F8-D9 -> 1735133.3 | G9: =G8 -> 25/2024 | H9: =D9/'DADOS - CONTRATO 024.2023'!$G$2 -> 0.023043806 | I9: =SUM($H$2:H9) -> 0.28757172
A10: 367 | B10: 03/12/2025 | C10: 12/2025 | D10: 160059.16 | E10: =E9-D10 -> 1575074.1 | F10: =F9-D10 -> 1575074.1 | G10: =G9 -> 25/2024 | H10: =D10/'DADOS - CONTRATO 024.2023'!$G$2 -> 0.065718682 | I10: =SUM($H$2:H10) -> 0.3532904
A11: 401 | B11: 30/01/2026 | C11: 01/2026 | D11: 113874.06 | E11: =E10-D11 -> 1461200.1 | F11: =F10-D11 -> 1461200.1 | G11: =G10 -> 25/2024 | H11: =D11/'DADOS - CONTRATO 024.2023'!$G$2 -> 0.046755544 | I11: =SUM($H$2:H11) -> 0.40004595
E12: =E11-D12 -> 1461200.1 | F12: =F11-D12 -> 1461200.1 | G12: =G11 -> 25/2024 | H12: =D12/'DADOS - CONTRATO 024.2023'!$G$2 -> 0 | I12: =SUM($H$2:H12) -> 0.40004595
E13: =E12-D13 -> 1461200.1 | F13: =F12-D13 -> 1461200.1 | G13: =G12 -> 25/2024 | H13: =D13/'DADOS - CONTRATO 024.2023'!$G$2 -> 0 | I13: =SUM($H$2:H13) -> 0.40004595
E14: =E13-D14 -> 1461200.1 | F14: =F13-D14 -> 1461200.1 | G14: =G5 -> 25/2024 | H14: =D14/'DADOS - CONTRATO 024.2023'!$G$2 -> 0 | I14: =SUM($H$2:H14) -> 0.40004595
E15: =E14-D15 -> 1461200.1 | F15: =F14-D15 -> 1461200.1 | G15: =G14 -> 25/2024 | H15: =D15/'DADOS - CONTRATO 024.2023'!$G$2 -> 0 | I15: =SUM($H$2:H15) -> 0.40004595
E16: =E15-D16 -> 1461200.1 | F16: =F15-D16 -> 1461200.1 | G16: =G15 -> 25/2024 | H16: =D16/'DADOS - CONTRATO 024.2023'!$G$2 -> 0 | I16: =SUM($H$2:H16) -> 0.40004595
E17: =E16-D17 -> 1461200.1 | F17: =F16-D17 -> 1461200.1 | G17: =G16 -> 25/2024 | H17: =D17/'DADOS - CONTRATO 024.2023'!$G$2 -> 0 | I17: =SUM($H$2:H17) -> 0.40004595
E18: =E17-D18 -> 1461200.1 | F18: =F17-D18 -> 1461200.1 | G18: =G17 -> 25/2024 | H18: =D18/'DADOS - CONTRATO 024.2023'!$G$2 -> 0 | I18: =SUM($H$2:H18) -> 0.40004595
E19: =E18-D19 -> 1461200.1 | F19: =F18-D19 -> 1461200.1 | G19: =G18 -> 25/2024 | H19: =D19/'DADOS - CONTRATO 024.2023'!$G$2 -> 0 | I19: =SUM($H$2:H19) -> 0.40004595
E20: =E19-D20 -> 1461200.1 | F20: =F19-D20 -> 1461200.1 | G20: =G19 -> 25/2024 | H20: =D20/'DADOS - CONTRATO 024.2023'!$G$2 -> 0 | I20: =SUM($H$2:H20) -> 0.40004595
E21: =E20-D21 -> 1461200.1 | F21: =F20-D21 -> 1461200.1 | G21: =G20 -> 25/2024 | H21: =D21/'DADOS - CONTRATO 024.2023'!$G$2 -> 0 | I21: =SUM($H$2:H21) -> 0.40004595
A23: CÉLULAS PARA COMPLETAR
A24: NÃO ALTERAR | K24: 2264861.5
K25: 2264945.8
A26: Observações: | J26: 234174.51 | K26: =K25-E4 -> 65667.27
A27: I) Abrir expediente GED para pagamento de cada nota fiscal com a devida documentação e anexar esta planilha preenchida ao processo | J27: 51530.36 | K27: =K24-E4 -> 65582.93
A28: II) Enviar esta planilha atualizada a cada nova NF recebida para os e-mails: contratos@mpal.mp.br e fellipe.tavares@mpal.mp.br | J28: =J27-J26 -> -182644.15
