Workbook
Name ___________ALE03: [1]Plan1!$X$1:$Y$27
Name ___________AT2: [2]TOTAL!$B$11:$G$210
Name ___________eap1: #REF!
Name ___________eap1: #REF!
Name __________ALE03: [1]Plan1!$X$1:$Y$27
Name __________AT2: [2]TOTAL!$B$11:$G$210
Name __________eap1: #REF!
Name __________eap1: #REF!
Name _________ALE03: [1]Plan1!$X$1:$Y$27
Name _________AT2: [2]TOTAL!$B$11:$G$210
Name _________eap1: #REF!
Name _________eap1: #REF!
Name ________ALE03: [1]Plan1!$X$1:$Y$27
Name ________AT2: [2]TOTAL!$B$11:$G$210
Name ________eap1: #REF!
Name ________eap1: #REF!
Name _______ALE03: [1]Plan1!$X$1:$Y$27
Name _______AT2: [2]TOTAL!$B$11:$G$210
Name _______eap1: #REF!
Name _______eap1: #REF!
Name ______ALE03: [1]Plan1!$X$1:$Y$27
Name ______AT2: [2]TOTAL!$B$11:$G$210
Name ______eap1: #REF!
Name ______eap1: #REF!
Name _____ALE03: [1]Plan1!$X$1:$Y$27
Name _____AT2: [2]TOTAL!$B$11:$G$210
Name _____eap1: #REF!
Name _____eap1: #REF!
Name _____Rc1: [3]EQUIPAM.!$C$194
Name _____Rc2: [3]EQUIPAM.!$C$205
Name ____ALE03: [1]Plan1!$X$1:$Y$27
Name ____AT2: [2]TOTAL!$B$11:$G$210
Name ____eap1: #REF!
Name ____eap1: #REF!
Name ____Rc1: [3]EQUIPAM.!$C$194
Name ____Rc2: [3]EQUIPAM.!$C$205
Name ____xlnm.Print_Area_1: #REF!
Name ____xlnm.Print_Area_1: #REF!
Name ___ALE03: [1]Plan1!$X$1:$Y$27
Name ___AT2: [2]TOTAL!$B$11:$G$210
Name ___eap1: #REF!
Name ___eap1: #REF!
Name ___r: '[4]PREDIO 3BL'!$B$8:$D$679
Name ___Rc1: [3]EQUIPAM.!$C$194
Name ___Rc2: [3]EQUIPAM.!$C$205
Name ___tq200: '[5]caracteristicas 1'!#REF!
Name ___tq200: '[5]caracteristicas 1'!#REF!
Name ___tq300: '[5]caracteristicas 1'!#REF!
Name ___tq300: '[5]caracteristicas 1'!#REF!
Name ___xlnm.Print_Area_1: #REF!
Name ___xlnm.Print_Area_1: #REF!
Name __123Graph_A: #REF!
Name __123Graph_A: #REF!
Name __123Graph_B: #REF!
Name __123Graph_B: #REF!
Name __123Graph_C: #REF!
Name __123Graph_C: #REF!
Name __123Graph_D: '[6]Etapa Única'!$C$125:$C$134
Name __123Graph_E: '[6]Etapa Única'!$E$125:$E$134
Name __123Graph_X: #REF!

Sheet ORÇ ABART
N1: valor total | O1: 3197835.4
D2: Construção da nova Promotoria de Justiça de Santana do Ipanema - Não desonerado | E2: SINAPI - 09/2024 - Alagoas ORSE - 06/2024 - Sergipe | G2: 22,47% | I2: Não Desonerado: Horista: 115,22% Mensalista: 70,31% | N2: valor desc | O2: 2499989 | P2: =1-O2/O1 -> 0.21822462
A3: Orçamento Sintético | N3: =O2-O3 -> 868.67 | O3: =H561 -> 2499120.3 | P3: 0.2195
A4: Item | B4: Código | C4: Banco | D4: Descrição | E4: Und | F4: Quant. | G4: Valor Unit | H4: Valor Unit com BDI | I4: Total | J4: Peso (%) | L4: Valor Unit | M4: Valor Unit com BDI | N4: Total
A5: 1 | D5: ADMINISTRAÇÃO DE OBRA | I5: =SUM(I6) -> 172855.2 | J5: 0.069255384 | M5: 221467.32 | N5: 221467.32
A6: 1.1 | B6: COMP - 12 | C6: Próprio | D6: ADMINISTRAÇÃO LOCAL | E6: un | F6: 12 | G6: =TRUNC(L6-L6*$P$3,2) -> 11761.74 | H6: =TRUNC(M6-M6*$P$3,2) -> 14404.6 | I6: =ROUND(F6*H6,2) -> 172855.2 | J6: 0.069255384 | L6: 15069.5 | M6: 18455.61 | N6: 221467.32
A7: 2 | D7: MOBILIZAÇÃO | I7: =SUM(I8) -> 4778.4 | J7: 0.0019149203 | M7: 6123.6 | N7: 6123.6
A8: 2.1 | B8: 92144 | C8: SINAPI | D8: CAMINHONETE CABINE SIMPLES COM MOTOR 1.6 FLEX, CÂMBIO MANUAL, POTÊNCIA 101/104 CV, 2 PORTAS - MATERIAIS NA OPERAÇÃO. AF_11/2015 | E8: H | F8: 120 | G8: =TRUNC(L8-L8*$P$3,2) -> 32.52 | H8: =TRUNC(M8-M8*$P$3,2) -> 39.82 | I8: =ROUND(F8*H8,2) -> 4778.4 | J8: 0.0019149203 | L8: 41.67 | M8: 51.03 | N8: 6123.6
A9: 3 | D9: SERVIÇOS PRELIMINARES | I9: =SUM(I10:I23) -> 76367.26 | J9: 0.030598704 | M9: 97849.62 | N9: 97849.62
A10: 3.1 | B10: MP 003 | C10: Próprio | D10: ART DE EXECUÇÃO - CREA AL | E10: und | F10: 3 | G10: =TRUNC(L10-L10*$P$3,2) -> 204.92 | H10: =TRUNC(M10-M10*$P$3,2) -> 250.96 | I10: =ROUND(F10*H10,2) -> 752.88 | J10: 0.0003016478 | L10: 262.55 | M10: 321.54 | N10: 964.62
A11: 3.2 | B11: 97625 | C11: SINAPI | D11: DEMOLIÇÃO DE ALVENARIA PARA QUALQUER TIPO DE BLOCO, DE FORMA MECANIZADA, SEM REAPROVEITAMENTO. AF_09/2023 | E11: m³ | F11: 28.42875 | G11: =TRUNC(L11-L11*$P$3,2) -> 39.14 | H11: =TRUNC(M11-M11*$P$3,2) -> 47.94 | I11: =ROUND(F11*H11,2) -> 1362.87 | J11: 0.00054611003 | L11: 50.16 | M11: 61.43 | N11: 1746.37
A12: 3.3 | B12: 97627 | C12: SINAPI | D12: DEMOLIÇÃO DE PILARES E VIGAS EM CONCRETO ARMADO, DE FORMA MECANIZADA COM MARTELETE, SEM REAPROVEITAMENTO. AF_09/2023 | E12: m³ | F12: 2.36475 | G12: =TRUNC(L12-L12*$P$3,2) -> 119.29 | H12: =TRUNC(M12-M12*$P$3,2) -> 146.09 | I12: =ROUND(F12*H12,2) -> 345.47 | J12: 0.0001384155 | L12: 152.84 | M12: 187.18 | N12: 442.63
A13: 3.4 | B13: 104790 | C13: SINAPI | D13: DEMOLIÇÃO DE PISO DE CONCRETO SIMPLES, DE FORMA MECANIZADA COM MARTELETE, SEM REAPROVEITAMENTO. AF_09/2023 | E13: m³ | F13: 3.6 | G13: =TRUNC(L13-L13*$P$3,2) -> 77.8 | H13: =TRUNC(M13-M13*$P$3,2) -> 95.27 | I13: =ROUND(F13*H13,2) -> 342.97 | J13: 0.00013742108 | L13: 99.68 | M13: 122.07 | N13: 439.45
A14: 3.5 | B14: 9937 | C14: ORSE | D14: Limpeza mecanizada do terreno c/ retroescavadeira (vegetação rasteira) inclusive carga e transporte - dmt até 1km | E14: m² | F14: 1313.26 | G14: =TRUNC(L14-L14*$P$3,2) -> 1.47 | H14: =TRUNC(M14-M14*$P$3,2) -> 1.8 | I14: =ROUND(F14*H14,2) -> 2363.87 | J14: 0.00094865108 | L14: 1.89 | M14: 2.31 | N14: 3033.63
A15: 3.6 | B15: 103689 | C15: SINAPI | D15: FORNECIMENTO E INSTALAÇÃO DE PLACA DE OBRA COM CHAPA GALVANIZADA E ESTRUTURA DE MADEIRA. AF_03/2022_PS | E15: m² | F15: 4.5 | G15: =TRUNC(L15-L15*$P$3,2) -> 361.41 | H15: =TRUNC(M15-M15*$P$3,2) -> 442.62 | I15: =ROUND(F15*H15,2) -> 1991.79 | J15: 0.00079802419 | L15: 463.06 | M15: 567.1 | N15: 2551.95
A16: 3.7 | B16: 98459 | C16: SINAPI | D16: TAPUME COM TELHA METÁLICA. AF_03/2024 | E16: m² | F16: 32.18 | G16: =TRUNC(L16-L16*$P$3,2) -> 70.77 | H16: =TRUNC(M16-M16*$P$3,2) -> 86.67 | I16: =ROUND(F16*H16,2) -> 2789.04 | J16: 0.0011174997 | L16: 90.68 | M16: 111.05 | N16: 3573.58
A17: 3.8 | B17: 9416 | C17: ORSE | D17: Instalação provisória de energia elétrica, aerea, trifasica, em poste galvanizado, exclusive fornecimento do medidor | E17: un | F17: 1 | G17: =TRUNC(L17-L17*$P$3,2) -> 1283.43 | H17: =TRUNC(M17-M17*$P$3,2) -> 1571.82 | I17: =ROUND(F17*H17,2) -> 1571.82 | J17: 0.00062976037 | L17: 1644.38 | M17: 2013.87 | N17: 2013.87
A18: 3.9 | B18: 6096 | C18: ORSE | D18: Ligação Predial de Água em Mureta de Concreto, Provisória ou Definitiva, com Fornecimento de Material, inclusive Mureta e Hidrômetro, Rede DN 50mm - Rev 03_10/2022 | E18: UN | F18: 1 | G18: =TRUNC(L18-L18*$P$3,2) -> 423.95 | H18: =TRUNC(M18-M18*$P$3,2) -> 519.21 | I18: =ROUND(F18*H18,2) -> 519.21 | J18: 0.00020802509 | L18: 543.18 | M18: 665.23 | N18: 665.23
A19: 3.10 | B19: 56 | C19: ORSE | D19: Barracão para escritório de obra porte pequeno s=25,41m2 com materiais novos | E19: un | F19: 1 | G19: =TRUNC(L19-L19*$P$3,2) -> 11797.6 | H19: =TRUNC(M19-M19*$P$3,2) -> 14448.51 | I19: =ROUND(F19*H19,2) -> 14448.51 | J19: 0.0057888752 | L19: 15115.44 | M19: 18511.87 | N19: 18511.87
A20: 3.11 | B20: 62 | C20: ORSE | D20: Barracão fechado porte pequeno para depósito de cimento e almoxarifado (s=38,72 m2) com materiais novos | E20: un | F20: 1 | G20: =TRUNC(L20-L20*$P$3,2) -> 9419.75 | H20: =TRUNC(M20-M20*$P$3,2) -> 11536.36 | I20: =ROUND(F20*H20,2) -> 11536.36 | J20: 0.0046221078 | L20: 12068.87 | M20: 14780.74 | N20: 14780.74
A21: 3.12 | B21: 61 | C21: ORSE | D21: Barracão aberto para refeitório de obra (capacidade 24 refeições simultâneas)-s=61,60m2 com materiais novos | E21: un | F21: 1 | G21: =TRUNC(L21-L21*$P$3,2) -> 13555.57 | H21: =TRUNC(M21-M21*$P$3,2) -> 16601.5 | I21: =ROUND(F21*H21,2) -> 16601.5 | J21: 0.0066514837 | L21: 17367.81 | M21: 21270.35 | N21: 21270.35
A22: 3.13 | B22: 10184 | C22: ORSE | D22: Barracão para banheiro e vestiário de obra, s=35,10m², capacidade 20 operários com materiais novos | E22: un | F22: 1 | G22: =TRUNC(L22-L22*$P$3,2) -> 14046.28 | H22: =TRUNC(M22-M22*$P$3,2) -> 17202.47 | I22: =ROUND(F22*H22,2) -> 17202.47 | J22: 0.0068922653 | L22: 17996.52 | M22: 22040.33 | N22: 22040.33
A23: 3.14 | B23: 11703 | C23: ORSE | D23: Barracão aberto para apoio à produção (carpintaria, central de armação, oficina, etc.) c/ tesouras, telha 4mm, piso em concreto desempolado | E23: m² | F23: 25 | G23: =TRUNC(L23-L23*$P$3,2) -> 148.24 | H23: =TRUNC(M23-M23*$P$3,2) -> 181.54 | I23: =ROUND(F23*H23,2) -> 4538.5 | J23: 0.0018184175 | L23: 189.93 | M23: 232.6 | N23: 5815
A24: 4 | D24: TERRAPLANAGEM | I24: =SUM(I25:I32) -> 58839.91 | J24: 0.023579422 | M24: 75403.11 | N24: 75403.11
A25: 4.1 | B25: 2548 | C25: ORSE | D25: Locação de serviços de terraplenagem de obras civis | E25: m² | F25: 1313.26 | G25: =TRUNC(L25-L25*$P$3,2) -> 1.03 | H25: =TRUNC(M25-M25*$P$3,2) -> 1.26 | I25: =ROUND(F25*H25,2) -> 1654.71 | J25: 0.00066528753 | L25: 1.33 | M25: 1.62 | N25: 2127.48
A26: 4.2 | B26: 101124 | C26: SINAPI | D26: ESCAVAÇÃO HORIZONTAL, INCLUINDO CARGA E DESCARGA EM SOLO DE 1A CATEGORIA COM TRATOR DE ESTEIRAS (100HP/LÂMINA: 2,19M3). AF_07/2020 | E26: m³ | F26: 26.11 | G26: =TRUNC(L26-L26*$P$3,2) -> 11.17 | H26: =TRUNC(M26-M26*$P$3,2) -> 13.68 | I26: =ROUND(F26*H26,2) -> 357.18 | J26: 0.00014312807 | L26: 14.32 | M26: 17.53 | N26: 457.7
A27: 4.3 | B27: 102354 | C27: SINAPI | D27: DESMONTE DE MATERIAL DE 3ª CATEGORIA (BLOCOS DE ROCHAS OU MATACOS), COM MARTELETE PNEUMÁTICO MANUAL - EXCLUSIVE CARGA E TRANSPORTE. AF_03/2021 | E27: m³ | F27: 61.128 | G27: =TRUNC(L27-L27*$P$3,2) -> 111.86 | H27: =TRUNC(M27-M27*$P$3,2) -> 136.99 | I27: =ROUND(F27*H27,2) -> 8373.92 | J27: 0.0033551383 | L27: 143.32 | M27: 175.52 | N27: 10729.18
A28: 4.4 | B28: 4522 | C28: ORSE | D28: Desmonte de rocha dura incluindo perfuração e argamassa expansiva | E28: m³ | F28: 91.692 | G28: =TRUNC(L28-L28*$P$3,2) -> 264.46 | H28: =TRUNC(M28-M28*$P$3,2) -> 323.88 | I28: =ROUND(F28*H28,2) -> 29697.2 | J28: 0.011898492 | L28: 338.84 | M28: 414.97 | N28: 38049.42
A29: 4.5 | B29: 102361 | C29: SINAPI | D29: RETIRADA DE MATERIAL DE 3ª CATEGORIA (APÓS ESCAVAÇÃO/DESMONTE) EM VALAS, COM RETROESCAVADEIRA - EXCLUSIVE CARGA E TRANSPORTE. AF_03/2021 | E29: m³ | F29: 152.82 | G29: =TRUNC(L29-L29*$P$3,2) -> 24.98 | H29: =TRUNC(M29-M29*$P$3,2) -> 30.59 | I29: =ROUND(F29*H29,2) -> 4674.76 | J29: 0.0018733109 | L29: 32.01 | M29: 39.2 | N29: 5990.54
A30: 4.6 | B30: 95875 | C30: SINAPI | D30: TRANSPORTE COM CAMINHÃO BASCULANTE DE 10 M³, EM VIA URBANA PAVIMENTADA, DMT ATÉ 30 KM (UNIDADE: M3XKM). AF_07/2020 | E30: M3XKM | F30: 1902.77 | G30: =TRUNC(L30-L30*$P$3,2) -> 1.88 | H30: =TRUNC(M30-M30*$P$3,2) -> 2.3 | I30: =ROUND(F30*H30,2) -> 4376.37 | J30: 0.001755303 | L30: 2.41 | M30: 2.95 | N30: 5613.17
A31: 4.7 | B31: 368 | C31: SINAPI | D31: AREIA PARA ATERRO - POSTO JAZIDA/FORNECEDOR (RETIRADO NA JAZIDA, SEM TRANSPORTE) | E31: M³ | F31: 113.47 | G31: =TRUNC(L31-L31*$P$3,2) -> 37.07 | H31: =TRUNC(M31-M31*$P$3,2) -> 45.4 | I31: =ROUND(F31*H31,2) -> 5151.54 | J31: 0.002064065 | L31: 47.5 | M31: 58.17 | N31: 6600.54
A32: 4.8 | B32: 71 | C32: ORSE | D32: Aterro manual de áreas, sem aquisição de material, com espalhamento e compactação | E32: m³ | F32: 90.776 | G32: =TRUNC(L32-L32*$P$3,2) -> 40.96 | H32: =TRUNC(M32-M32*$P$3,2) -> 50.17 | I32: =ROUND(F32*H32,2) -> 4554.23 | J32: 0.0018246968 | L32: 52.49 | M32: 64.28 | N32: 5835.08
A33: 5 | B33: * | D33: ESTRUTURA | I33: =SUM(I34,I38,I44,I54,I76,I89,I100,I108,I119) -> 830673.87 | J33: 0.33287053 | L33: =M33-M33*P3 -> 830815.05 | M33: 1064465.1 | N33: 1064465.1
A34: 5.1 | B34: * | D34: LOCAÇÃO DA OBRA, FUNDAÇÕES E VIGAS BALDRAMES | I34: =SUM(I35,I36,I37) -> 17057.42 | J34: 0.019265598 | M34: 61608.21 | N34: 61608.21
A35: 5.1.1 | B35: 105009 | C35: SINAPI | D35: LOCAÇÃO CONVENCIONAL DE OBRA, UTILIZANDO GABARITO DE TÁBUAS CORRIDAS PONTALETADAS A CADA 1,50M - 2 UTILIZAÇÕES. AF_03/2024 | E35: M | F35: 101.12 | G35: =TRUNC(L35-L35*$P$3,2) -> 54.54 | H35: =TRUNC(M35-M35*$P$3,2) -> 66.8 | I35: =ROUND(F35*H35,2) -> 6754.82 | J35: 0.0027064745 | L35: 69.89 | M35: 85.59 | N35: 8654.86
A36: 5.1.2 | B36: 96523 | C36: SINAPI | D36: ESCAVAÇÃO MANUAL PARA BLOCO DE COROAMENTO OU SAPATA (INCLUINDO ESCAVAÇÃO PARA COLOCAÇÃO DE FÔRMAS). AF_01/2024 | E36: m³ | F36: 99.2 | G36: =TRUNC(L36-L36*$P$3,2) -> 68.2 | H36: =TRUNC(M36-M36*$P$3,2) -> 83.52 | I36: =ROUND(F36*H36,2) -> 8285.18 | J36: 0.0033195548 | L36: 87.38 | M36: 107.01 | N36: 10615.39
A37: 5.1.3 | B37: 96619 | C37: SINAPI | D37: LASTRO DE CONCRETO MAGRO, APLICADO EM BLOCOS DE COROAMENTO OU SAPATAS, ESPESSURA DE 5 CM. AF_01/2024 | E37: m² | F37: 59.11 | G37: =TRUNC(L37-L37*$P$3,2) -> 27.87 | H37: =TRUNC(M37-M37*$P$3,2) -> 34.13 | I37: =ROUND(F37*H37,2) -> 2017.42 | J37: 0.00080832178 | L37: 35.71 | M37: 43.73 | N37: 2584.88
A38: 5.1.4 | B38: * | D38: FORMA, AÇO E CONCRETO | I38: =SUM(I39,I40,I41,I42,I43) -> 31021.89 | J38: 0.012431246 | M38: 39753.08 | N38: 39753.08
A39: 5.1.4.1 | B39: 96541 | C39: SINAPI | D39: FABRICAÇÃO, MONTAGEM E DESMONTAGEM DE FÔRMA PARA SAPATA, EM CHAPA DE MADEIRA COMPENSADA RESINADA, E=17 MM, 4 UTILIZAÇÕES. AF_01/2024 | E39: m² | F39: 32.63 | G39: =TRUNC(L39-L39*$P$3,2) -> 139.06 | H39: =TRUNC(M39-M39*$P$3,2) -> 170.3 | I39: =ROUND(F39*H39,2) -> 5556.89 | J39: 0.0022264623 | L39: 178.17 | M39: 218.2 | N39: 7119.86
A40: 5.1.4.2 | B40: 96545 | C40: SINAPI | D40: ARMAÇÃO DE BLOCO UTILIZANDO AÇO CA-50 DE 8 MM - MONTAGEM. AF_01/2024 | E40: KG | F40: 29 | G40: =TRUNC(L40-L40*$P$3,2) -> 13.62 | H40: =TRUNC(M40-M40*$P$3,2) -> 16.68 | I40: =ROUND(F40*H40,2) -> 483.72 | J40: 0.0001938874 | L40: 17.46 | M40: 21.38 | N40: 620.02
...

Sheet ORÇ MPAL 
D1: Obra | E1: Bancos | G1: B.D.I. | I1: Encargos Sociais
D2: Construção da nova Promotoria de Justiça de Santana do Ipanema - Não desonerado | E2: SINAPI - 09/2024 - Alagoas ORSE - 06/2024 - Sergipe | G2: 22,47% | I2: Não Desonerado: Horista: 115,22% Mensalista: 70,31%
A3: Orçamento Sintético
A4: Item | B4: Código | C4: Banco | D4: Descrição | E4: Und | F4: Quant. | G4: Valor Unit | H4: Valor Unit com BDI | I4: Total | J4: Peso (%) | K4: Item
A5: 1 | D5: ADMINISTRAÇÃO DE OBRA | F5: 1 | H5: 221467.32 | I5: 221467.32 | J5: 0.069255384 | K5: 1
A6: 1.1 | B6: COMP - 12 | C6: Próprio | D6: ADMINISTRAÇÃO LOCAL | E6: un | F6: 12 | G6: 15069.5 | H6: 18455.61 | I6: 221467.32 | J6: 0.069255384 | K6: 1.1
A7: 2 | D7: MOBILIZAÇÃO | F7: 1 | H7: 6123.6 | I7: 6123.6 | J7: 0.0019149203 | K7: 2
A8: 2.1 | B8: 92144 | C8: SINAPI | D8: CAMINHONETE CABINE SIMPLES COM MOTOR 1.6 FLEX, CÂMBIO MANUAL, POTÊNCIA 101/104 CV, 2 PORTAS - MATERIAIS NA OPERAÇÃO. AF_11/2015 | E8: H | F8: 120 | G8: 41.67 | H8: 51.03 | I8: 6123.6 | J8: 0.0019149203 | K8: 2.1
A9: 3 | D9: SERVIÇOS PRELIMINARES | F9: 1 | H9: 97849.62 | I9: 97849.62 | J9: 0.030598704 | K9: 3
A10: 3.1 | B10: MP 003 | C10: Próprio | D10: ART DE EXECUÇÃO - CREA AL | E10: und | F10: 3 | G10: 262.55 | H10: 321.54 | I10: 964.62 | J10: 0.0003016478 | K10: 3.1
A11: 3.2 | B11: 97625 | C11: SINAPI | D11: DEMOLIÇÃO DE ALVENARIA PARA QUALQUER TIPO DE BLOCO, DE FORMA MECANIZADA, SEM REAPROVEITAMENTO. AF_09/2023 | E11: m³ | F11: 28.42875 | G11: 50.16 | H11: 61.43 | I11: 1746.37 | J11: 0.00054611003 | K11: 3.2
A12: 3.3 | B12: 97627 | C12: SINAPI | D12: DEMOLIÇÃO DE PILARES E VIGAS EM CONCRETO ARMADO, DE FORMA MECANIZADA COM MARTELETE, SEM REAPROVEITAMENTO. AF_09/2023 | E12: m³ | F12: 2.36475 | G12: 152.84 | H12: 187.18 | I12: 442.63 | J12: 0.0001384155 | K12: 3.3
A13: 3.4 | B13: 104790 | C13: SINAPI | D13: DEMOLIÇÃO DE PISO DE CONCRETO SIMPLES, DE FORMA MECANIZADA COM MARTELETE, SEM REAPROVEITAMENTO. AF_09/2023 | E13: m³ | F13: 3.6 | G13: 99.68 | H13: 122.07 | I13: 439.45 | J13: 0.00013742108 | K13: 3.4
A14: 3.5 | B14: 9937 | C14: ORSE | D14: Limpeza mecanizada do terreno c/ retroescavadeira (vegetação rasteira) inclusive carga e transporte - dmt até 1km | E14: m² | F14: 1313.26 | G14: 1.89 | H14: 2.31 | I14: 3033.63 | J14: 0.00094865108 | K14: 3.5
A15: 3.6 | B15: 103689 | C15: SINAPI | D15: FORNECIMENTO E INSTALAÇÃO DE PLACA DE OBRA COM CHAPA GALVANIZADA E ESTRUTURA DE MADEIRA. AF_03/2022_PS | E15: m² | F15: 4.5 | G15: 463.06 | H15: 567.1 | I15: 2551.95 | J15: 0.00079802419 | K15: 3.6
A16: 3.7 | B16: 98459 | C16: SINAPI | D16: TAPUME COM TELHA METÁLICA. AF_03/2024 | E16: m² | F16: 32.18 | G16: 90.68 | H16: 111.05 | I16: 3573.58 | J16: 0.0011174997 | K16: 3.7
A17: 3.8 | B17: 9416 | C17: ORSE | D17: Instalação provisória de energia elétrica, aerea, trifasica, em poste galvanizado, exclusive fornecimento do medidor | E17: un | F17: 1 | G17: 1644.38 | H17: 2013.87 | I17: 2013.87 | J17: 0.00062976037 | K17: 3.8
A18: 3.9 | B18: 6096 | C18: ORSE | D18: Ligação Predial de Água em Mureta de Concreto, Provisória ou Definitiva, com Fornecimento de Material, inclusive Mureta e Hidrômetro, Rede DN 50mm - Rev 03_10/2022 | E18: UN | F18: 1 | G18: 543.18 | H18: 665.23 | I18: 665.23 | J18: 0.00020802509 | K18: 3.9
A19: 3.10 | B19: 56 | C19: ORSE | D19: Barracão para escritório de obra porte pequeno s=25,41m2 com materiais novos | E19: un | F19: 1 | G19: 15115.44 | H19: 18511.87 | I19: 18511.87 | J19: 0.0057888752 | K19: 3.10
A20: 3.11 | B20: 62 | C20: ORSE | D20: Barracão fechado porte pequeno para depósito de cimento e almoxarifado (s=38,72 m2) com materiais novos | E20: un | F20: 1 | G20: 12068.87 | H20: 14780.74 | I20: 14780.74 | J20: 0.0046221078 | K20: 3.11
A21: 3.12 | B21: 61 | C21: ORSE | D21: Barracão aberto para refeitório de obra (capacidade 24 refeições simultâneas)-s=61,60m2 com materiais novos | E21: un | F21: 1 | G21: 17367.81 | H21: 21270.35 | I21: 21270.35 | J21: 0.0066514837 | K21: 3.12
A22: 3.13 | B22: 10184 | C22: ORSE | D22: Barracão para banheiro e vestiário de obra, s=35,10m², capacidade 20 operários com materiais novos | E22: un | F22: 1 | G22: 17996.52 | H22: 22040.33 | I22: 22040.33 | J22: 0.0068922653 | K22: 3.13
A23: 3.14 | B23: 11703 | C23: ORSE | D23: Barracão aberto para apoio à produção (carpintaria, central de armação, oficina, etc.) c/ tesouras, telha 4mm, piso em concreto desempolado | E23: m² | F23: 25 | G23: 189.93 | H23: 232.6 | I23: 5815 | J23: 0.0018184175 | K23: 3.14
A24: 4 | D24: TERRAPLANAGEM | F24: 1 | H24: 75403.11 | I24: 75403.11 | J24: 0.023579422 | K24: 4
A25: 4.1 | B25: 2548 | C25: ORSE | D25: Locação de serviços de terraplenagem de obras civis | E25: m² | F25: 1313.26 | G25: 1.33 | H25: 1.62 | I25: 2127.48 | J25: 0.00066528753 | K25: 4.1
A26: 4.2 | B26: 101124 | C26: SINAPI | D26: ESCAVAÇÃO HORIZONTAL, INCLUINDO CARGA E DESCARGA EM SOLO DE 1A CATEGORIA COM TRATOR DE ESTEIRAS (100HP/LÂMINA: 2,19M3). AF_07/2020 | E26: m³ | F26: 26.11 | G26: 14.32 | H26: 17.53 | I26: 457.7 | J26: 0.00014312807 | K26: 4.2
A27: 4.3 | B27: 102354 | C27: SINAPI | D27: DESMONTE DE MATERIAL DE 3ª CATEGORIA (BLOCOS DE ROCHAS OU MATACOS), COM MARTELETE PNEUMÁTICO MANUAL - EXCLUSIVE CARGA E TRANSPORTE. AF_03/2021 | E27: m³ | F27: 61.128 | G27: 143.32 | H27: 175.52 | I27: 10729.18 | J27: 0.0033551383 | K27: 4.3
A28: 4.4 | B28: 4522 | C28: ORSE | D28: Desmonte de rocha dura incluindo perfuração e argamassa expansiva | E28: m³ | F28: 91.692 | G28: 338.84 | H28: 414.97 | I28: 38049.42 | J28: 0.011898492 | K28: 4.4
A29: 4.5 | B29: 102361 | C29: SINAPI | D29: RETIRADA DE MATERIAL DE 3ª CATEGORIA (APÓS ESCAVAÇÃO/DESMONTE) EM VALAS, COM RETROESCAVADEIRA - EXCLUSIVE CARGA E TRANSPORTE. AF_03/2021 | E29: m³ | F29: 152.82 | G29: 32.01 | H29: 39.2 | I29: 5990.54 | J29: 0.0018733109 | K29: 4.5
A30: 4.6 | B30: 95875 | C30: SINAPI | D30: TRANSPORTE COM CAMINHÃO BASCULANTE DE 10 M³, EM VIA URBANA PAVIMENTADA, DMT ATÉ 30 KM (UNIDADE: M3XKM). AF_07/2020 | E30: M3XKM | F30: 1902.77 | G30: 2.41 | H30: 2.95 | I30: 5613.17 | J30: 0.001755303 | K30: 4.6
A31: 4.7 | B31: 368 | C31: SINAPI | D31: AREIA PARA ATERRO - POSTO JAZIDA/FORNECEDOR (RETIRADO NA JAZIDA, SEM TRANSPORTE) | E31: M³ | F31: 113.47 | G31: 47.5 | H31: 58.17 | I31: 6600.54 | J31: 0.002064065 | K31: 4.7
A32: 4.8 | B32: 71 | C32: ORSE | D32: Aterro manual de áreas, sem aquisição de material, com espalhamento e compactação | E32: m³ | F32: 90.776 | G32: 52.49 | H32: 64.28 | I32: 5835.08 | J32: 0.0018246968 | K32: 4.8
A33: 5 | D33: ESTRUTURA | F33: 1 | H33: 1064465.1 | I33: 1064465.1 | J33: 0.33287053 | K33: 5
A34: 5.1 | D34: LOCAÇÃO DA OBRA, FUNDAÇÕES E VIGAS BALDRAMES | F34: 1 | H34: 61608.21 | I34: 61608.21 | J34: 0.019265598 | K34: 5.1
A35: 5.1.1 | B35: 105009 | C35: SINAPI | D35: LOCAÇÃO CONVENCIONAL DE OBRA, UTILIZANDO GABARITO DE TÁBUAS CORRIDAS PONTALETADAS A CADA 1,50M - 2 UTILIZAÇÕES. AF_03/2024 | E35: M | F35: 101.12 | G35: 69.89 | H35: 85.59 | I35: 8654.86 | J35: 0.0027064745 | K35: 5.1.1
A36: 5.1.2 | B36: 96523 | C36: SINAPI | D36: ESCAVAÇÃO MANUAL PARA BLOCO DE COROAMENTO OU SAPATA (INCLUINDO ESCAVAÇÃO PARA COLOCAÇÃO DE FÔRMAS). AF_01/2024 | E36: m³ | F36: 99.2 | G36: 87.38 | H36: 107.01 | I36: 10615.39 | J36: 0.0033195548 | K36: 5.1.2
A37: 5.1.3 | B37: 96619 | C37: SINAPI | D37: LASTRO DE CONCRETO MAGRO, APLICADO EM BLOCOS DE COROAMENTO OU SAPATAS, ESPESSURA DE 5 CM. AF_01/2024 | E37: m² | F37: 59.11 | G37: 35.71 | H37: 43.73 | I37: 2584.88 | J37: 0.00080832178 | K37: 5.1.3
A38: 5.1.4 | D38: FORMA, AÇO E CONCRETO | F38: 1 | H38: 39753.08 | I38: 39753.08 | J38: 0.012431246 | K38: 5.1.4
A39: 5.1.4.1 | B39: 96541 | C39: SINAPI | D39: FABRICAÇÃO, MONTAGEM E DESMONTAGEM DE FÔRMA PARA SAPATA, EM CHAPA DE MADEIRA COMPENSADA RESINADA, E=17 MM, 4 UTILIZAÇÕES. AF_01/2024 | E39: m² | F39: 32.63 | G39: 178.17 | H39: 218.2 | I39: 7119.86 | J39: 0.0022264623 | K39: 5.1.4.1
A40: 5.1.4.2 | B40: 96545 | C40: SINAPI | D40: ARMAÇÃO DE BLOCO UTILIZANDO AÇO CA-50 DE 8 MM - MONTAGEM. AF_01/2024 | E40: KG | F40: 29 | G40: 17.46 | H40: 21.38 | I40: 620.02 | J40: 0.0001938874 | K40: 5.1.4.2
...

Sheet M.C. ADITIVO 01 
A1: MEMÓRIA DE CÁLCULO DE QUANTIDADES - ADITIVO 01
A2: Cliente: | B2: =[8]Planilha1!A1 -> 0
A3: Contrato: | B3: ='ADITIVO SANT'!B7 -> nº 25/2024
A4: Obra: | B4: ='ORÇ MPAL '!D2 -> Construção da nova Promotoria de Justiça de Santana do Ipanema - Não desonerado
A6: ='ADITIVO SANT'!A15 -> 5.2 | B6: ='ADITIVO SANT'!D15 -> PILARES
A7: ='ADITIVO SANT'!A16 -> 5.2.8 | B7: ='ADITIVO SANT'!D16 -> CONCRETO FCK = 30MPA, TRAÇO 1:2,1:2,5 (EM MASSA SECA DE CIMENTO/ AREIA MÉDIA/ BRITA 1) - PREPARO MECÂNICO COM BETONEIRA 600 L. AF_05/2021
B9: Volume | K9: UNIDADE
A10: =A7 -> 5.2.8 | B10: =-1*'ORÇ MPAL '!F52 -> -15.76 | J10: =B10 -> -15.76 | K10: ='ORÇ MPAL '!E52 -> m³
A11: Considerações: | B11: Supressão total
A13: ='ADITIVO SANT'!A17 -> 5.2.9 | B13: ='ADITIVO SANT'!D17 -> LANÇAMENTO COM USO DE BOMBA, ADENSAMENTO E ACABAMENTO DE CONCRETO EM ESTRUTURAS. AF_02/2022
B15: Volume | K15: UNIDADE
A16: =A13 -> 5.2.9 | B16: =-1*'ORÇ MPAL '!F53 -> -15.76 | J16: =B16 -> -15.76 | K16: ='ORÇ MPAL '!E53 -> m³
A17: Considerações: | B17: Supressão total
A19: ='ADITIVO SANT'!A18 -> 5.2.10 | B19: ='ADITIVO SANT'!D18 -> CONCRETAGEM DE PILARES, FCK = 30 MPA, COM USO DE BOMBA - LANÇAMENTO, ADENSAMENTO E ACABAMENTO. AF_02/2022_PS - (Composição de ref. SINAPI (103672)
B21: Volume | K21: UNIDADE
A22: =A19 -> 5.2.10 | B22: =B10*-1 -> 15.76 | J22: =B22 -> 15.76 | K22: =K10 -> m³
A23: Considerações: | B23: Substitui os itens 5.2.9 e 5.2.8
A25: ='ADITIVO SANT'!A19 -> 5.3.1 | B25: ='ADITIVO SANT'!D19 -> BALDRAMES
A26: ='ADITIVO SANT'!A20 -> 5.3.1.7 | B26: ='ADITIVO SANT'!D20 -> CONCRETO FCK = 30MPA, TRAÇO 1:2,1:2,5 (EM MASSA SECA DE CIMENTO/ AREIA MÉDIA/ BRITA 1) - PREPARO MECÂNICO COM BETONEIRA 400 L. AF_05/2021
K28: UNIDADE
A29: =A26 -> 5.3.1.7 | B29: =-1*'ORÇ MPAL '!F62 -> -11.9 | J29: =B29 -> -11.9 | K29: m³
A30: Considerações: | B30: Supressão total
A32: ='ADITIVO SANT'!A21 -> 5.3.1.8 | B32: ='ADITIVO SANT'!D21 -> LANÇAMENTO COM USO DE BOMBA, ADENSAMENTO E ACABAMENTO DE CONCRETO EM ESTRUTURAS. AF_02/2022
K34: UNIDADE
A35: =A32 -> 5.3.1.8 | B35: =-1*'ORÇ MPAL '!F63 -> -11.9 | J35: =B35 -> -11.9 | K35: m³
A36: Considerações: | B36: Supressão total
A38: ='ADITIVO SANT'!A22 -> 5.3.1.9 | B38: ='ADITIVO SANT'!D22 -> CONCRETAGEM DE BLOCOS DE COROAMENTO OU VIGA BALDRAME, FCK 30 MPA, COM USO DE BOMBA- LANÇAMENTO, ADENSAMENTO E ACABAMENTO. AF_01/2024
K40: UNIDADE
A41: =A38 -> 5.3.1.9 | B41: =B29*-1 -> 11.9 | J41: =B41 -> 11.9 | K41: =K29 -> m³
A42: Considerações: | B42: Substitui os itens 5.3.1.8 e 5.3.1.9
A44: ='ADITIVO SANT'!A23 -> 5.3.1.10 | B44: ='ADITIVO SANT'!D23 -> DESMONTE DE MATERIAL DE 3ª CATEGORIA (BLOCOS DE ROCHAS OU MATACOS), COM MARTELETE PNEUMÁTICO MANUAL - EXCLUSIVE CARGA E TRANSPORTE. AF_03/2021
B46: LARGURA | C46: ALTURA | D46: COMPRIMENTO | E46: VOLUME | K46: UNIDADE
A47: V1 P1-P2 | B47: 0.5 | C47: 0.5 | D47: 6.1 | E47: =B47*C47*D47 -> 1.525 | K47: m³
A48: V1 P2-P3 | B48: 0.5 | C48: 0.5 | D48: 5.395 | E48: =B48*C48*D48 -> 1.34875 | K48: m³
A49: V1 P3-P4 | B49: 0.5 | C49: 0.5 | D49: 5.75 | E49: =B49*C49*D49 -> 1.4375 | K49: m³
A50: V1 P4-P5 | B50: 0.5 | C50: 0.5 | D50: 5.75 | E50: =B50*C50*D50 -> 1.4375 | K50: m³
A51: V2 P6-P7 | B51: 0.5 | C51: 0.45 | D51: 6.5 | E51: =B51*C51*D51 -> 1.4625 | K51: m³
A52: V2 P7-P8 | B52: 0.5 | C52: 0.6 | D52: 5.38 | E52: =B52*C52*D52 -> 1.614 | K52: m³
A53: V2 P8-P9 | B53: 0.5 | C53: 0.75 | D53: 5.775 | E53: =B53*C53*D53 -> 2.165625 | K53: m³
A54: V2 P9-P10 | B54: 0.5 | C54: 0.65 | D54: 5.735 | E54: =B54*C54*D54 -> 1.863875 | K54: m³
...

Sheet JUSTIFICATIVAS ADITIVO 01
A1: JUSTIFICATIVAS - ADITIVO 01
B2: ='[9]M.C. ADITIVO 01 '!B2 -> 0
A3: Contrato: | B3: ='M.C. ADITIVO 01 '!B3 -> nº 25/2024
A4: Obra: | B4: ='M.C. ADITIVO 01 '!B4 -> Construção da nova Promotoria de Justiça de Santana do Ipanema - Não desonerado
B7: ADITIVO 01 | D7: JUSTIFICATIVAS
A8: ='ADITIVO SANT'!A15 -> 5.2 | B8: ='ADITIVO SANT'!D15 -> PILARES
A9: ='ADITIVO SANT'!A16 -> 5.2.8 | B9: ='ADITIVO SANT'!D16 -> CONCRETO FCK = 30MPA, TRAÇO 1:2,1:2,5 (EM MASSA SECA DE CIMENTO/ AREIA MÉDIA/ BRITA 1) - PREPARO MECÂNICO COM BETONEIRA 600 L. AF_05/2021 | C9: ='ADITIVO SANT'!P16 -> SUPRESSÃO | D9: A substituição do concreto preparado em obra por concreto usinado foi adotada visando garantir maior qualidade, uniformidade e controle do material aplicado na estrutura. O concreto usinado é produzido em centrais com rigoroso controle tecnológico, assegurando desempenho superior e conformidade com as normas técnicas. Já o concreto preparado em obra apresenta dificuldades de padronização e comprovação de qualidade, devido à variabilidade na dosagem e ausência de ensaios sistemáticos. Além disso, pelo grande volume da laje, seria necessário executar a concretagem em etapas com juntas frias, o que é evitado com o uso do concreto usinado, permitindo uma concretagem contínua. Verificou-se ainda que há concreteiras na região com capacidade de atender à obra, tornando viável e recomendável essa solução.
A10: ='ADITIVO SANT'!A17 -> 5.2.9 | B10: ='ADITIVO SANT'!D17 -> LANÇAMENTO COM USO DE BOMBA, ADENSAMENTO E ACABAMENTO DE CONCRETO EM ESTRUTURAS. AF_02/2022 | C10: ='ADITIVO SANT'!P17 -> SUPRESSÃO | D10: A nova composição já inlui o lançamento.
A11: ='ADITIVO SANT'!A18 -> 5.2.10 | B11: ='ADITIVO SANT'!D18 -> CONCRETAGEM DE PILARES, FCK = 30 MPA, COM USO DE BOMBA - LANÇAMENTO, ADENSAMENTO E ACABAMENTO. AF_02/2022_PS - (Composição de ref. SINAPI (103672) | C11: ='ADITIVO SANT'!P18 -> ADIÇÃO | D11: Ver justificativa do item 5.2.8
A12: ='ADITIVO SANT'!A19 -> 5.3.1 | B12: ='ADITIVO SANT'!D19 -> BALDRAMES
A13: ='ADITIVO SANT'!A23 -> 5.3.1.10 | B13: ='ADITIVO SANT'!D23 -> DESMONTE DE MATERIAL DE 3ª CATEGORIA (BLOCOS DE ROCHAS OU MATACOS), COM MARTELETE PNEUMÁTICO MANUAL - EXCLUSIVE CARGA E TRANSPORTE. AF_03/2021 | C13: ='ADITIVO SANT'!P23 -> ADIÇÃO | D13: A escavação para as vigas baldrames não foi prevista inicialmente, porém é necessária tendo em vista os níveis dos projetos.
A14: ='ADITIVO SANT'!A24 -> 5.3.1.11 | B14: ='ADITIVO SANT'!D24 -> RETIRADA DE MATERIAL DE 3ª CATEGORIA (APÓS ESCAVAÇÃO/DESMONTE) EM VALAS, COM RETROESCAVADEIRA - EXCLUSIVE CARGA E TRANSPORTE. AF_03/2021 | C14: ='ADITIVO SANT'!P24 -> ADIÇÃO | D14: Retirada do material escavado
A15: ='ADITIVO SANT'!A25 -> 5.3.1.12 | B15: ='ADITIVO SANT'!D25 -> TRANSPORTE COM CAMINHÃO BASCULANTE DE 10 M³, EM VIA URBANA PAVIMENTADA, DMT ATÉ 30 KM (UNIDADE: M3XKM). AF_07/2020 | C15: ='ADITIVO SANT'!P25 -> ADIÇÃO | D15: Trasnporte do material escavado
A16: ='ADITIVO SANT'!A26 -> 5.3.2 | B16: ='ADITIVO SANT'!D26 -> NÍVEL 1 E NÍVEL 2
A17: ='ADITIVO SANT'!A27 -> 5.3.2.10 | B17: ='ADITIVO SANT'!D27 -> CONCRETO FCK = 30MPA, TRAÇO 1:2,1:2,5 (EM MASSA SECA DE CIMENTO/ AREIA MÉDIA/ BRITA 1) - PREPARO MECÂNICO COM BETONEIRA 600 L. AF_05/2021 | C17: ='ADITIVO SANT'!P27 -> SUPRESSÃO | D17: Ver justificativa do item 5.2.8
A18: ='ADITIVO SANT'!A28 -> 5.3.2.11 | B18: ='ADITIVO SANT'!D28 -> LANÇAMENTO COM USO DE BOMBA, ADENSAMENTO E ACABAMENTO DE CONCRETO EM ESTRUTURAS. AF_02/2022 | C18: ='ADITIVO SANT'!P28 -> SUPRESSÃO | D18: A nova composição já inlui o lançamento.
A19: ='ADITIVO SANT'!A29 -> 5.3.2.12 | B19: ='ADITIVO SANT'!D29 -> CONCRETAGEM DE VIGAS E LAJES, FCK=30 MPA, PARA LAJES MACIÇAS OU NERVURADAS COM USO DE BOMBA - LANÇAMENTO, ADENSAMENTO E ACABAMENTO. (Composição de ref. SINAPI - 09/2024 - 103675) | C19: ='ADITIVO SANT'!P29 -> ADIÇÃO | D19: Ver justificativa do item 5.2.8
A20: ='ADITIVO SANT'!A30 -> 5.4 | B20: ='ADITIVO SANT'!D30 -> LAJES
A21: ='ADITIVO SANT'!A31 -> 5.4.11 | B21: ='ADITIVO SANT'!D31 -> CONCRETO FCK = 30MPA, TRAÇO 1:2,1:2,5 (EM MASSA SECA DE CIMENTO/ AREIA MÉDIA/ BRITA 1) - PREPARO MECÂNICO COM BETONEIRA 600 L. AF_05/2021 | C21: ='ADITIVO SANT'!P31 -> SUPRESSÃO | D21: Ver justificativa do item 5.2.8
A22: ='ADITIVO SANT'!A32 -> 5.4.12 | B22: ='ADITIVO SANT'!D32 -> LANÇAMENTO COM USO DE BOMBA, ADENSAMENTO E ACABAMENTO DE CONCRETO EM ESTRUTURAS. AF_02/2022 | C22: ='ADITIVO SANT'!P32 -> SUPRESSÃO | D22: A nova composição já inlui o lançamento.
A23: ='ADITIVO SANT'!A33 -> 5.4.13 | B23: ='ADITIVO SANT'!D33 -> CONCRETAGEM DE VIGAS E LAJES, FCK=30 MPA, PARA LAJES MACIÇAS OU NERVURADAS COM USO DE BOMBA - LANÇAMENTO, ADENSAMENTO E ACABAMENTO. (Composição de ref. SINAPI - 09/2024 - 103675) | C23: ='ADITIVO SANT'!P33 -> ADIÇÃO | D23: Ver justificativa do item 5.2.8
A24: ='ADITIVO SANT'!A34 -> 5.5 | B24: ='ADITIVO SANT'!D34 -> ESCADAS
A25: ='ADITIVO SANT'!A35 -> 5.5.9 | B25: ='ADITIVO SANT'!D35 -> CONCRETO FCK = 30MPA, TRAÇO 1:2,1:2,5 (EM MASSA SECA DE CIMENTO/ AREIA MÉDIA/ BRITA 1) - PREPARO MECÂNICO COM BETONEIRA 600 L. AF_05/2021 | C25: ='ADITIVO SANT'!P35 -> SUPRESSÃO | D25: Ver justificativa do item 5.2.8
A26: ='ADITIVO SANT'!A36 -> 5.5.10 | B26: ='ADITIVO SANT'!D36 -> LANÇAMENTO COM USO DE BOMBA, ADENSAMENTO E ACABAMENTO DE CONCRETO EM ESTRUTURAS. AF_02/2022 | C26: ='ADITIVO SANT'!P36 -> SUPRESSÃO | D26: A nova composição já inlui o lançamento.
A27: ='ADITIVO SANT'!A37 -> 5.5.11 | B27: ='ADITIVO SANT'!D37 -> CONCRETAGEM DE ESCADAS, FCK=30 MPA, COM USO DE BOMBA - LANÇAMENTO, ADENSAMENTO E ACABAMENTO. AF_02/2022_PS (Composição de ref. SINAPI 103686) | C27: ='ADITIVO SANT'!P37 -> ADIÇÃO | D27: Ver justificativa do item 5.2.8
A28: ='ADITIVO SANT'!A38 -> 5.7 | B28: ='ADITIVO SANT'!D38 -> MURO DE FLEXÃO | D28: Após a realização das escavações e a análise detalhada das características do solo no local, verificou-se a viabilidade técnica de substituir o muro de flexão inicialmente projetado por uma solução estrutural alternativa. Diante desse novo cenário, optou-se pela adoção de um muro de gravidade em concreto ciclópico, uma alternativa mais simples, eficiente e econômica. Essa tipologia estrutural é plenamente compatível com as condições do terreno, dispensando armaduras e fundações complexas, o que reduz significativamente os custos e o tempo de execução. Além disso, o concreto ciclópico, composto por agregados graúdos (como pedras de mão), proporciona massa e estabilidade suficientes para conter os empuxos atuantes, atendendo com segurança aos requisitos técnicos e de desempenho da obra. A mudança representa uma otimização do projeto, mantendo a funcionalidade e garantindo maior racionalidade construtiva.
A29: ='ADITIVO SANT'!A39 -> 5.7.1 | B29: ='ADITIVO SANT'!D39 -> ESCAVAÇÃO MANUAL PARA BLOCO DE COROAMENTO OU SAPATA (INCLUINDO ESCAVAÇÃO PARA COLOCAÇÃO DE FÔRMAS). AF_01/2024 | C29: ='ADITIVO SANT'!P39 -> SUPRESSÃO | D29: Supressão da escavação para o muro de flexão.
A30: ='ADITIVO SANT'!A40 -> 5.7.2 | B30: ='ADITIVO SANT'!D40 -> LASTRO DE CONCRETO MAGRO, APLICADO EM BLOCOS DE COROAMENTO OU SAPATAS, ESPESSURA DE 5 CM. AF_01/2024 | C30: ='ADITIVO SANT'!P40 -> SUPRESSÃO | D30: Supressão parcial do lastro relativo ao muro de contenção, restando para o muro de grvaidade.
A31: ='ADITIVO SANT'!A41 -> 5.7.3 | B31: ='ADITIVO SANT'!D41 -> Forma plana para estruturas, em compensado resinado de 14mm, 07 usos, inclusive escoramento - Revisada 07.2015 | C31: ='ADITIVO SANT'!P41 -> SUPRESSÃO | D31: Supressão parcial da forma que seria usada no muro de flexão, restando apenas a forma para o muro de gravidade.
A32: ='ADITIVO SANT'!A42 -> 5.7.4 | B32: ='ADITIVO SANT'!D42 -> ARMAÇÃO DE CORTINA DE CONTENÇÃO EM CONCRETO ARMADO, COM AÇO CA-50 DE 6,3 MM - MONTAGEM. AF_07/2019 | C32: ='ADITIVO SANT'!P42 -> SUPRESSÃO | D32: Supreção da armação do muro de flexão.
A33: ='ADITIVO SANT'!A43 -> 5.7.5 | B33: ='ADITIVO SANT'!D43 -> ARMAÇÃO DE CORTINA DE CONTENÇÃO EM CONCRETO ARMADO, COM AÇO CA-50 DE 8 MM - MONTAGEM. AF_07/2019 | C33: ='ADITIVO SANT'!P43 -> SUPRESSÃO | D33: Supreção da armação do muro de flexão.
A34: ='ADITIVO SANT'!A44 -> 5.7.6 | B34: ='ADITIVO SANT'!D44 -> ARMAÇÃO DE CORTINA DE CONTENÇÃO EM CONCRETO ARMADO, COM AÇO CA-50 DE 10 MM - MONTAGEM. AF_07/2019 | C34: ='ADITIVO SANT'!P44 -> SUPRESSÃO | D34: Supreção da armação do muro de flexão.
A35: ='ADITIVO SANT'!A45 -> 5.7.7 | B35: ='ADITIVO SANT'!D45 -> ARMAÇÃO DE CORTINA DE CONTENÇÃO EM CONCRETO ARMADO, COM AÇO CA-50 DE 12,5 MM - MONTAGEM. AF_07/2019 | C35: ='ADITIVO SANT'!P45 -> SUPRESSÃO | D35: Supreção da armação do muro de flexão.
A36: ='ADITIVO SANT'!A46 -> 5.7.8 | B36: ='ADITIVO SANT'!D46 -> CONCRETO FCK = 30MPA, TRAÇO 1:2,1:2,5 (EM MASSA SECA DE CIMENTO/ AREIA MÉDIA/ BRITA 1) - PREPARO MECÂNICO COM BETONEIRA 600 L. AF_05/2021 | C36: ='ADITIVO SANT'!P46 -> SUPRESSÃO | D36: Supressão do concreto do muro de flexão.
A37: ='ADITIVO SANT'!A47 -> 5.7.9 | B37: ='ADITIVO SANT'!D47 -> LANÇAMENTO COM USO DE BOMBA, ADENSAMENTO E ACABAMENTO DE CONCRETO EM ESTRUTURAS. AF_02/2022 | C37: ='ADITIVO SANT'!P47 -> SUPRESSÃO | D37: Supressão do concreto do muro de flexão.
A38: ='ADITIVO SANT'!A48 -> 5.7.10 | B38: ='ADITIVO SANT'!D48 -> DRENO BARBACÃ, DN 100 MM, COM MATERIAL DRENANTE. AF_07/2021 | C38: ='ADITIVO SANT'!P48 -> SUPRESSÃO | D38: Supressão parcial do dreno tipo Barbacã, restando apenas na contenção na divisa com o TJAL.
A39: ='ADITIVO SANT'!A50 -> 5.7.12 | B39: ='ADITIVO SANT'!D50 -> CONCRETO CICLÓPICO FCK = 15MPA, 30% PEDRA DE MÃO EM VOLUME REAL, INCLUSIVE LANÇAMENTO. AF_05/2021 | C39: ='ADITIVO SANT'!P50 -> ADIÇÃO | D39: Concreto para o nova contenção.
A40: ='ADITIVO SANT'!A51 -> 5.7.13 | B40: ='ADITIVO SANT'!D51 -> DRENO EM MURO DE CONTENÇÃO, EXECUTADO NO PÉ DO MURO, COM TUBO DE PEAD CORRUGADO FLEXÍVEL PERFURADO, ENCHIMENTO COM BRITA, ENVOLVIDO COM MANTA GEOTÊXTIL. AF_07/2021 | C40: ='ADITIVO SANT'!P51 -> ADIÇÃO | D40: Dreno compátivel com a contenção na divisa com o T.R.E.
A41: ='ADITIVO SANT'!A52 -> 5.7.14 | B41: ='ADITIVO SANT'!D52 -> CANALETA MEIA CANA PRÉ-MOLDADA DE CONCRETO (D = 50 CM) - FORNECIMENTO E INSTALAÇÃO. AF_08/2021 | C41: ='ADITIVO SANT'!P52 -> ADIÇÃO | D41: Canaleta para drenagem na crista do Talude.
A42: ='ADITIVO SANT'!A53 -> 5.7.15 | B42: ='ADITIVO SANT'!D53 -> EXECUÇÃO DE SARJETA DE CONCRETO USINADO, MOLDADA IN LOCO EM TRECHO RETO, 60 CM BASE X 15 CM ALTURA. AF_01/2024 | C42: ='ADITIVO SANT'!P53 -> ADIÇÃO | D42: Sarjeta no pé do Talude.
...

Sheet M.D.G ABART
A1: MEMÓRIA DE CÁLCULO DA MANUTENÇÃO DO DESCONTO GLOBAL
B2: =[8]Planilha1!A1 -> 0
A3: Contrato: | B3: ='JUSTIFICATIVAS ADITIVO 01'!B3 -> nº 25/2024
A4: Obra: | B4: ='JUSTIFICATIVAS ADITIVO 01'!B4 -> Construção da nova Promotoria de Justiça de Santana do Ipanema - Não desonerado
B7: VALOR GLOBAL REFERENCIAL ORIGINAL (1) : | C7: ='ORÇ MPAL '!H561 -> 3197835.4 | E7: ADITIVO 01 COM PREÇO REFERENCIAL (4a) : | F7: ='ADITIVO SANT'!I75 -> -81382.05
E9: VALOR GLOBAL REFERENCIAL ADITIVO 01 (4) : | F9: =C7+F7 -> 3116453.4
B11: VALOR GLOBAL DA CONTRATADA (GC): (2) | C11: ='ORÇ ABART'!H561 -> 2499120.3 | E11: ADITIVO 01 COM PREÇO DA CONTRATADA (5a) : | F11: ='ADITIVO SANT'!M75 -> -63255.67
B13: DESCONTO GLOBAL EFETIVO (3): | C13: =1-C11/C7 -> 0.21849626 | E13: VALOR GLOBAL DA CONTRATADA ADITIVO 01 (5) : | F13: =C11+F11 -> 2435864.6
B15: Fórmulas: | E15: DESCONTO GLOBAL ADITIVO 01 (6): | F15: =1-F13/F9 -> 0.21838565
E17: PARCELA COMPENSATÓRIA (7)*: | F17: =F9*(1-C13)-F13 -> -344.70632
E18: * SE PARCELA COMPENSATÓRIA POSITIVA, ENTÃO ZERA. | F18: =IF(F9*(1-C13)-F13>0,0,F17) -> -344.70632
E20: VALOR GLOBAL FINAL CORRIGIDO ADITIVO 01 (8): | F20: =F13+F18 -> 2435519.9
E22: DESCONTO GLOBAL CORRIGIDO (9): | F22: =1-(F20/F9) -> 0.21849626

Sheet CRONOGRAMA
A3: CRONOGRAMA
A4: Item | B4: Discriminação | C4: Preço Total (R$) | D4: % | E4: Mês 01 | F4: Mês 02 | G4: Mês 03 | H4: Mês 04 | I4: Mês 05 | J4: Mês 06 | K4: Mês 07 | L4: Mês 08 | M4: Mês 09 | N4: Mês 10 | O4: Mês 11 | P4: Mês 12 | R4: conferencia
A5: 1 | B5: ='ORÇ ABART CONSOLIDADA ADITIVO 1'!D5 -> ADMINISTRAÇÃO DE OBRA | C5: ='ORÇ ABART CONSOLIDADA ADITIVO 1'!I5 -> 172855.2 | D5: =C5/$C$51 -> 0.070972607 | E5: 9403.32 | F5: 3232.39 | G5: 3457.1 | H5: 3370.68 | I5: 5805.05 | J5: 11595.7 | K5: 11546.73 | L5: 15729.82 | M5: 18097.94 | N5: 18132.51 | O5: 17613.94 | P5: 18512.79 | R5: =SUM(E5:P5) -> 136497.97 | S5: =C5-R5 -> 36357.23
E6: =E5/$C5 -> 0.054399983 | F6: =F5/$C5 -> 0.018699987 | G6: =G5/$C5 -> 0.019999977 | H6: =H5/$C5 -> 0.019500021 | I6: =I5/$C5 -> 0.033583311 | J6: =J5/$C5 -> 0.067083316 | K6: =K5/$C5 -> 0.066800015 | L6: =L5/$C5 -> 0.090999981 | ... O6: =O5/$C5 -> 0.10189997 | P6: =1-(SUM(E6:O6)) -> 0.31743344 | Q6: =SUM(E6:P6) -> 1 | R6: =SUM(E6:P6) -> 1 | S6: =C6-R6 -> -1
A7: 2 | B7: ='ORÇ ABART CONSOLIDADA ADITIVO 1'!D7 -> MOBILIZAÇÃO | C7: ='ORÇ ABART CONSOLIDADA ADITIVO 1'!I7 -> 4778.4 | D7: =C7/$C$51 -> 0.001961963 | E7: 259.94 | F7: 89.36 | G7: 95.57 | H7: 93.18 | I7: 160.87 | J7: 320.55 | K7: 319.2 | L7: 434.83 | M7: 500.3 | N7: 501.25 | O7: 486.92 | P7: =P8*$C$7 -> 1516.43 | R7: =SUM(E7:P7) -> 4778.4 | S7: =C7-R7 -> 0
E8: =E7/$C7 -> 0.054398962 | F8: =F7/$C7 -> 0.01870082 | G8: =G7/$C7 -> 0.020000419 | H8: =H7/$C7 -> 0.019500251 | I8: =I7/$C7 -> 0.033666081 | J8: =J7/$C7 -> 0.067083124 | K8: =K7/$C7 -> 0.066800603 | L8: =L7/$C7 -> 0.090999079 | ... O8: =O7/$C7 -> 0.10190022 | P8: =1-(SUM(E8:O8)) -> 0.317351 | Q8: =SUM(E8:P8) -> 1 | R8: =SUM(E8:P8) -> 1 | S8: =C8-R8 -> -1
A9: 3 | B9: ='ORÇ ABART CONSOLIDADA ADITIVO 1'!D9 -> SERVIÇOS PRELIMINARES | C9: ='ORÇ ABART CONSOLIDADA ADITIVO 1'!I9 -> 76367.26 | D9: =C9/$C$51 -> 0.031355629 | E9: 72458.92 | F9: 1720.25 | G9: 1343.63 | H9: 843.81 | I9: =I10*$C$9 -> 0.65 | J9: =J10*$C$9 -> 0 | K9: =K10*$C$9 -> 0 | L9: =L10*$C$9 -> 0 | M9: =M10*$C$9 -> 0 | N9: =N10*$C$9 -> 0 | O9: =O10*$C$9 -> 0 | P9: =P10*$C$9 -> 0 | R9: =SUM(E9:P9) -> 76367.26 | S9: =C9-R9 -> 0
E10: =E9/$C9 -> 0.94882179 | F10: =F9/$C9 -> 0.022526014 | G10: =G9/$C9 -> 0.01759432 | H10: =H9/$C9 -> 0.011049369 | I10: =1-(SUM(E10:H10)) -> 8.5115009e-06 | Q10: =SUM(E10:P10) -> 1 | R10: =SUM(E10:P10) -> 1 | S10: =C10-R10 -> -1
A11: 4 | B11: ='ORÇ ABART CONSOLIDADA ADITIVO 1'!D24 -> TERRAPLANAGEM | C11: ='ORÇ ABART CONSOLIDADA ADITIVO 1'!I24 -> 58839.91 | D11: =C11/$C$51 -> 0.024159075 | E11: 47137 | G11: 1997.16 | H11: 1003.4 | I11: =I12*$C$11 -> 8702.35 | J11: =J12*$C$11 -> 0 | K11: =K12*$C$11 -> 0 | L11: =L12*$C$11 -> 0 | M11: =M12*$C$11 -> 0 | N11: =N12*$C$11 -> 0 | O11: =O12*$C$11 -> 0 | P11: =P12*$C$11 -> 0 | R11: =SUM(E11:P11) -> 58839.91 | S11: =C11-R11 -> 0
E12: =E11/$C11 -> 0.80110592 | F12: =F11/$C11 -> 0 | G12: =G11/$C11 -> 0.033942268 | H12: =H11/$C11 -> 0.017053051 | I12: =1-(SUM(E12:H12)) -> 0.14789876 | Q12: =SUM(E12:P12) -> 1 | R12: =SUM(E12:P12) -> 1 | S12: =C12-R12 -> -1
A13: 5 | B13: ='ORÇ ABART CONSOLIDADA ADITIVO 1'!D33 -> ESTRUTURA | C13: ='ORÇ ABART CONSOLIDADA ADITIVO 1'!I33 -> 753145.36 | D13: =C13/$C$51 -> 0.30923391 | E13: 6754.82 | F13: 43655.05 | G13: 37708.6 | H13: 35636.4 | I13: 48617.76 | J13: 150450.61 | K13: 150629.07 | L13: 188286.34 | M13: 91406.71 | N13: =N14*$C$13 -> 0 | O13: =O14*$C$13 -> 0 | P13: =P14*$C$13 -> 0 | R13: =SUM(E13:P13) -> 753145.36 | S13: =C13-R13 -> 0
E14: =E13/$C13 -> 0.0089688131 | F14: =F13/$C13 -> 0.057963645 | G14: =G13/$C13 -> 0.050068157 | H14: =H13/$C13 -> 0.047316762 | I14: =I13/$C13 -> 0.064552957 | J14: =J13/$C13 -> 0.19976304 | K14: =K13/$C13 -> 0.2 | L14: =L13/$C13 -> 0.25 | M14: =M13/$C13 -> 0.12136662 | Q14: =SUM(E14:P14) -> 1 | R14: =SUM(E14:P14) -> 1 | S14: =C14-R14 -> -1
A15: 6 | B15: ='ORÇ ABART CONSOLIDADA ADITIVO 1'!D141 -> VEDAÇÃO E ELEVAÇÕES INTERNAS E EXTERNAS | C15: ='ORÇ ABART CONSOLIDADA ADITIVO 1'!I141 -> 211436.5 | D15: =C15/$C$51 -> 0.086813701 | E15: =E16*$C$15 -> 0 | F15: =F16*$C$15 -> 0 | G15: 6928.3 | H15: 6432.93 | I15: 17767.99 | J15: =J16*$C$15 -> 0 | K15: =K16*$C$15 -> 0 | L15: =L16*$C$15 -> 0 | M15: =M16*$C$15 -> 0 | N15: 169149.2 | O15: =O16*$C$15 -> 0 | P15: =P16*$C$15 -> 0 | R15: =SUM(E15:P15) -> 200278.42 | S15: =C15-R15 -> 11158.08
G16: =G15/$C15 -> 0.032767758 | H16: =H15/$C15 -> 0.030424879 | I16: =I15/$C15 -> 0.084034639 | N16: =N15/$C15 -> 0.8 | Q16: =SUM(E16:P16) -> 0.94722728 | R16: =SUM(E16:P16) -> 0.94722728 | S16: =C16-R16 -> -0.94722728
A17: 7 | B17: ='ORÇ ABART CONSOLIDADA ADITIVO 1'!D166 -> COBERTURA | C17: ='ORÇ ABART CONSOLIDADA ADITIVO 1'!I166 -> 42440.76 | D17: =C17/$C$51 -> 0.017425749 | E17: =E18*$C$17 -> 0 | F17: =F18*$C$17 -> 0 | G17: =G18*$C$17 -> 0 | H17: =H18*$C$17 -> 0 | I17: =I18*$C$17 -> 0 | J17: =J18*$C$17 -> 0 | K17: =K18*$C$17 -> 0 | L17: =L18*$C$17 -> 0 | M17: 29708.53 | N17: 12732.23 | O17: =O18*$C$17 -> 0 | P17: =P18*$C$17 -> 0 | R17: =SUM(E17:P17) -> 42440.76 | S17: =C17-R17 -> 0
M18: =M17/$C17 -> 0.69999995 | N18: =N17/$C17 -> 0.30000005 | Q18: =SUM(E18:P18) -> 1 | R18: =SUM(E18:P18) -> 1 | S18: =C18-R18 -> -1
A19: 8 | B19: ='ORÇ ABART CONSOLIDADA ADITIVO 1'!D172 -> IMPERMEABILIZAÇÃO | C19: ='ORÇ ABART CONSOLIDADA ADITIVO 1'!I172 -> 35324.53 | D19: =C19/$C$51 -> 0.014503897 | E19: =E20*$C$19 -> 0 | F19: =F20*$C$19 -> 0 | G19: =G20*$C$19 -> 0 | H19: =H20*$C$19 -> 0 | I19: =I20*$C$19 -> 0 | J19: =J20*$C$19 -> 0 | K19: =K20*$C$19 -> 0 | L19: =L20*$C$19 -> 0 | M19: 28259.62 | N19: 7064.91 | O19: =O20*$C$19 -> 0 | P19: =P20*$C$19 -> 0 | R19: =SUM(E19:P19) -> 35324.53 | S19: =C19-R19 -> 0
M20: =M19/$C19 -> 0.79999989 | N20: =N19/$C19 -> 0.20000011 | Q20: =SUM(E20:P20) -> 1 | R20: =SUM(E20:P20) -> 1 | S20: =C20-R20 -> -1
A21: 9 | B21: ='ORÇ ABART CONSOLIDADA ADITIVO 1'!D180 -> PAVIMENTAÇÃO | C21: ='ORÇ ABART CONSOLIDADA ADITIVO 1'!I180 -> 83931.8 | D21: =C21/$C$51 -> 0.034461553 | E21: =E22*$C$21 -> 0 | F21: =F22*$C$21 -> 0 | G21: =G22*$C$21 -> 0 | H21: =H22*$C$21 -> 0 | I21: =I22*$C$21 -> 0 | J21: =J22*$C$21 -> 0 | K21: =K22*$C$21 -> 0 | L21: 16786.36 | M21: 58752.26 | N21: 8393.18 | O21: =O22*$C$21 -> 0 | P21: =P22*$C$21 -> 0 | R21: =SUM(E21:P21) -> 83931.8 | S21: =C21-R21 -> 0
L22: =L21/$C21 -> 0.2 | M22: =M21/$C21 -> 0.7 | N22: =N21/$C21 -> 0.1 | Q22: =SUM(E22:P22) -> 1 | R22: =SUM(E22:P22) -> 1 | S22: =C22-R22 -> -1
A23: 10 | B23: ='ORÇ ABART CONSOLIDADA ADITIVO 1'!D194 -> REVESTIMENTOS INTERNOS E EXTERNOS | C23: ='ORÇ ABART CONSOLIDADA ADITIVO 1'!I194 -> 317669.02 | D23: =C23/$C$51 -> 0.13043171 | E23: =E24*$C$23 -> 0 | F23: =F24*$C$23 -> 0 | G23: =G24*$C$23 -> 0 | H23: =H24*$C$23 -> 0 | I23: =I24*$C$23 -> 0 | J23: =J24*$C$23 -> 0 | K23: =K24*$C$23 -> 0 | L23: =L24*$C$23 -> 0 | ... P23: =P24*$C$23 -> 0 | R23: =SUM(E23:P23) -> 0 | S23: =C23-R23 -> 317669.02
Q24: =SUM(E24:P24) -> 0 | R24: =SUM(E24:P24) -> 0 | S24: =C24-R24 -> 0
A25: 11 | B25: ='ORÇ ABART CONSOLIDADA ADITIVO 1'!D214 -> ESQUADRIAS | C25: ='ORÇ ABART CONSOLIDADA ADITIVO 1'!I214 -> 85836.62 | D25: =C25/$C$51 -> 0.035243653 | E25: =E26*$C$25 -> 0 | F25: =F26*$C$25 -> 0 | G25: =G26*$C$25 -> 0 | H25: =H26*$C$25 -> 0 | I25: =I26*$C$25 -> 0 | J25: =J26*$C$25 -> 0 | K25: =K26*$C$25 -> 0 | L25: =L26*$C$25 -> 0 | M25: =M26*$C$25 -> 0 | N25: =N26*$C$23 -> 0 | O25: =O26*$C$25 -> 0 | P25: =P26*$C$25 -> 0 | R25: =SUM(E25:P25) -> 0 | S25: =C25-R25 -> 85836.62
Q26: =SUM(E26:P26) -> 0 | R26: =SUM(E26:P26) -> 0 | S26: =C26-R26 -> 0
A27: 12 | B27: ='ORÇ ABART CONSOLIDADA ADITIVO 1'!D232 -> INSTALAÇÕES HIDROSSANITÁRIAS | C27: ='ORÇ ABART CONSOLIDADA ADITIVO 1'!I232 -> 45772.73 | D27: =C27/$C$51 -> 0.018793823 | E27: =E28*$C$27 -> 0 | F27: =F28*$C$27 -> 0 | G27: =G28*$C$27 -> 0 | H27: =H28*$C$27 -> 0 | I27: =I28*$C$27 -> 0 | J27: =J28*$C$27 -> 0 | K27: =K28*$C$27 -> 0 | L27: =L28*$C$27 -> 0 | M27: 9154.55 | N27: 18309.09 | O27: =O28*$C$27 -> 0 | P27: =P28*$C$27 -> 0 | R27: =SUM(E27:P27) -> 27463.64 | S27: =C27-R27 -> 18309.09
M28: =M27/$C27 -> 0.20000009 | N28: =N27/$C27 -> 0.39999996 | Q28: =SUM(E28:P28) -> 0.60000004 | R28: =SUM(E28:P28) -> 0.60000004 | S28: =C28-R28 -> -0.60000004
A29: 13 | B29: ='ORÇ ABART CONSOLIDADA ADITIVO 1'!D356 -> BANCADAS , LOUÇAS E METAIS | C29: ='ORÇ ABART CONSOLIDADA ADITIVO 1'!I356 -> 41036.45 | D29: =C29/$C$51 -> 0.016849154 | E29: =E30*$C$29 -> 0 | F29: =F30*$C$29 -> 0 | G29: =G30*$C$29 -> 0 | H29: =H30*$C$29 -> 0 | I29: =I30*$C$29 -> 0 | J29: =J30*$C$29 -> 0 | K29: =K30*$C$29 -> 0 | L29: =L30*$C$29 -> 0 | ... P29: =P30*$C$29 -> 0 | R29: =SUM(E29:P29) -> 41036.45 | S29: =C29-R29 -> 0
O30: 1 | Q30: =SUM(E30:P30) -> 1 | R30: =SUM(E30:P30) -> 1 | S30: =C30-R30 -> -1
A31: 14 | B31: ='ORÇ ABART CONSOLIDADA ADITIVO 1'!D373 -> INSTALAÇÕES ELÉTRICAS | C31: ='ORÇ ABART CONSOLIDADA ADITIVO 1'!I373 -> 87693.64 | D31: =C31/$C$51 -> 0.036006127 | E31: =E32*$C$31 -> 0 | F31: =F32*$C$31 -> 0 | G31: =G32*$C$31 -> 0 | H31: =H32*$C$31 -> 0 | I31: =I32*$C$31 -> 0 | J31: =J32*$C$31 -> 0 | K31: =K32*$C$31 -> 0 | L31: =L32*$C$31 -> 0 | M31: 17538.73 | N31: 26308.09 | O31: =O32*$C$31 -> 0 | P31: =P32*$C$31 -> 0 | R31: =SUM(E31:P31) -> 43846.82 | S31: =C31-R31 -> 43846.82
M32: =M31/$C31 -> 0.20000002 | N32: =N31/$C31 -> 0.29999998 | Q32: =SUM(E32:P32) -> 0.5 | R32: =SUM(E32:P32) -> 0.5 | S32: =C32-R32 -> -0.5
A33: 15 | B33: ='ORÇ ABART CONSOLIDADA ADITIVO 1'!D450 -> SPDA | C33: ='ORÇ ABART CONSOLIDADA ADITIVO 1'!I450 -> 13825.97 | D33: =C33/$C$51 -> 0.0056768043 | E33: =E34*$C$33 -> 0 | F33: =F34*$C$33 -> 0 | G33: =G34*$C$33 -> 0 | H33: =H34*$C$33 -> 1212.5376 | I33: =I34*$C$33 -> 544.74322 | J33: 946.46 | K33: =K34*$C$33 -> 0 | L33: =L34*$C$33 -> 0 | M33: 2765.19 | N33: 2765.19 | O33: =O34*$C$33 -> 0 | P33: =P34*$C$33 -> 0 | R33: =SUM(E33:P33) -> 8234.1208 | S33: =C33-R33 -> 5591.8492
H34: 0.0877 | I34: 0.0394 | J34: =J33/C33 -> 0.068455233 | M34: =M33/$C33 -> 0.19999971 | N34: =N33/$C33 -> 0.19999971 | Q34: =SUM(E34:P34) -> 0.59555465 | R34: =SUM(E34:P34) -> 0.59555465 | S34: =C34-R34 -> -0.59555465 | T34: =100% -> 1 | U34: =T34-H34-I34-J34 -> 0.80444477
A35: 16 | B35: ='ORÇ ABART CONSOLIDADA ADITIVO 1'!D469 -> INSTALAÇÕES DE AR CONDICIONADO | C35: ='ORÇ ABART CONSOLIDADA ADITIVO 1'!I469 -> 71737.33 | D35: =C35/$C$51 -> 0.029454626 | E35: =E36*$C$35 -> 0 | F35: =F36*$C$35 -> 0 | G35: =G36*$C$35 -> 0 | H35: =H36*$C$35 -> 0 | I35: =I36*$C$35 -> 0 | J35: =J36*$C$35 -> 0 | K35: =K36*$C$35 -> 0 | L35: =L36*$C$35 -> 0 | M35: =M36*$C$35 -> 0 | N35: 10760.6 | O35: =O36*$C$35 -> 53551.917 | P35: =P36*$C$35 -> 0 | R35: =SUM(E35:P35) -> 64312.517 | S35: =C35-R35 -> 7424.8132 | T35: =100% -> 1 | U35: =T35-H35-I35-J35 -> 1
N36: =N35/$C35 -> 0.15000001 | O36: 0.7465 | Q36: =SUM(E36:P36) -> 0.89650001 | R36: =SUM(E36:P36) -> 0.89650001 | S36: =C36-R36 -> -0.89650001 | T36: =100% -> 1 | U36: =T36-H36-I36-J36 -> 1
A37: 17 | B37: ='ORÇ ABART CONSOLIDADA ADITIVO 1'!D484 -> CABEAMENTO ESTRUTURADO , CFTV E ALARME | C37: ='ORÇ ABART CONSOLIDADA ADITIVO 1'!I484 -> 79522.31 | D37: =C37/$C$51 -> 0.032651061 | E37: =E38*$C$37 -> 0 | F37: =F38*$C$37 -> 0 | G37: =G38*$C$37 -> 0 | H37: =H38*$C$37 -> 0 | I37: =I38*$C$37 -> 0 | J37: =J38*$C$37 -> 0 | K37: =K38*$C$37 -> 0 | L37: =L38*$C$37 -> 0 | M37: =M38*$C$23 -> 0 | N37: =N38*$C$23 -> 0 | O37: =O38*$C$37 -> 0 | P37: =P38*$C$37 -> 16548.593 | R37: =SUM(E37:P37) -> 16548.593 | S37: =C37-R37 -> 62973.717 | T37: =100% -> 1 | U37: =T37-H37-I37-J37 -> 1
P38: 0.2081 | Q38: =SUM(E38:P38) -> 0.2081 | R38: =SUM(E38:P38) -> 0.2081 | S38: =C38-R38 -> -0.2081 | T38: =100% -> 1 | U38: =SUM(L38:N38) -> 0 | V38: =T38-U38 -> 1
A39: 18 | B39: ='ORÇ ABART CONSOLIDADA ADITIVO 1'!D521 -> COMBATE A INCÊNDIO E PÂNICO | C39: ='ORÇ ABART CONSOLIDADA ADITIVO 1'!I521 -> 5032.56 | D39: =C39/$C$51 -> 0.0020663185 | E39: =E40*$C$39 -> 0 | F39: =F40*$C$39 -> 0 | G39: =G40*$C$39 -> 0 | H39: =H40*$C$39 -> 0 | I39: =I40*$C$39 -> 0 | J39: =J40*$C$39 -> 0 | K39: =K40*$C$39 -> 0 | L39: =L40*$C$39 -> 0 | M39: =M40*$C$23 -> 0 | N39: =N40*$C$23 -> 0 | O39: =O40*$C$39 -> 0 | P39: =P40*$C$39 -> 4850.3813 | R39: =SUM(E39:P39) -> 4850.3813 | S39: =C39-R39 -> 182.17867 | T39: =100% -> 1 | U39: =T39-H39-I39-J39 -> 1
P40: 0.9638 | Q40: =SUM(E40:P40) -> 0.9638 | R40: =SUM(E40:P40) -> 0.9638 | S40: =C40-R40 -> -0.9638 | T40: =100% -> 1 | U40: =T40-H40-I40-J40 -> 1
A41: 19 | B41: ='ORÇ ABART CONSOLIDADA ADITIVO 1'!D528 -> PINTURA | C41: ='ORÇ ABART CONSOLIDADA ADITIVO 1'!I528 -> 28587.72 | D41: =C41/$C$51 -> 0.01173783 | E41: =E42*$C$41 -> 0 | F41: =F42*$C$41 -> 0 | G41: =G42*$C$41 -> 0 | H41: =H42*$C$41 -> 0 | I41: =I42*$C$41 -> 0 | J41: =J42*$C$41 -> 0 | K41: =K42*$C$41 -> 0 | L41: =L42*$C$41 -> 0 | M41: =M42*$C$23 -> 0 | N41: =N42*$C$23 -> 0 | O41: =O42*$C$41 -> 13176.08 | P41: =P42*$C$41 -> 15411.64 | R41: =SUM(E41:P41) -> 28587.72 | S41: =C41-R41 -> 0 | T41: =100% -> 1 | U41: =T41-H41-I41-J41 -> 1
O42: 0.4609 | P42: 0.5391 | Q42: =SUM(E42:P42) -> 1 | R42: =SUM(E42:P42) -> 1 | S42: =C42-R42 -> -1 | T42: =100% -> 1 | U42: =T42-H42-I42-J42 -> 1
...

Sheet ADITIVO SANT
A5: PLANILHA ORÇAMENTÁRIA SINTÉTICA - ADITIVO 01
A6: =[8]Planilha1!A1 -> 0 | E6: BANCOS | F6: SINAPI - 09/2024 - Alagoas | I6: B.D.I.
A7: CONTRATO: | B7: nº 25/2024 | F7: ORSE - 06/2024 - Sergipe | I7: ='ORÇ MPAL '!G2 -> 22,47% | L7: LEGENDA: | N7: ADIÇÃO DE SERVIÇOS CONTRATADOS
A9: OBJETO: | B9: ='ORÇ MPAL '!D2 -> Construção da nova Promotoria de Justiça de Santana do Ipanema - Não desonerado | E9: Encargos Sociais: | N9: SUPRESSÃO DE SERVIÇOS CONTRATADOS
E11: Não desonerado Horista: 115,22% Mensalista: 70,31% | N11: ADIÇÃO DE SERVIÇOS NOVOS
A13: ITEM APÓS ADITIVO | B13: CÓDIGO | C13: BANCO | D13: DESCRIÇÃO DO SERVIÇO | E13: UNID. | F13: QUANT. ADITADA | G13: ADITIVO COM PREÇO DE REFERÊNCIA (PREÇOS DOS BANCOS - SINAPI E ORSE - REFERÊNCIA DA LICITAÇÃO) | J13: ADITIVO COM PREÇO DO CONTRATO ORIGINAL (SE ITEM NOVO, APLICA-SE DESCONTO GLOBAL DO CONTATRO ORIGINAL 21,85 % AO PREÇO DE REFERÊNCIA) | N13: CONTRATADO ORIGINAL ( ANTES DO ADITIVO) | P13: SUPRESSÃO / ADIÇÃO | Q13: TOTAL APÓS ADITIVO
G14: VALOR UNITÁRIO SEM BDI | H14: VALOR UNITÁRIO COM BDI | I14: TOTAL DO ADITIVO COM BDI | J14: ITEM CONTRATO ORIGINAL | K14: VALOR UNITÁRIO SEM BDI | L14: VALOR UNITÁRIO COM BDI | M14: TOTAL DO ADITIVO COM BDI | N14: QUANT. ORIGINAL ANTES DO ADITIVO | O14: TOTAL COM BDI ANTES DO ADITIVO | Q14: QUANT. APÓS ADITIVO | R14: TOTAL COM BDI APÓS ADITIVO
A15: ='ORÇ MPAL '!A44 -> 5.2 | D15: ='ORÇ MPAL '!D44 -> PILARES | I15: =SUM(I16:I18) -> 2724.91 | M15: =SUM(M16:M18) -> 2139.63 | O15: =SUM(O16:O18) -> 7801.03 | R15: =SUM(R16:R18) -> 9940.66
A16: ='ORÇ MPAL '!A52 -> 5.2.8 | B16: ='ORÇ MPAL '!B52 -> 94972 | C16: ='ORÇ MPAL '!C52 -> SINAPI | D16: ='ORÇ MPAL '!D52 -> CONCRETO FCK = 30MPA, TRAÇO 1:2,1:2,5 (EM MASSA SECA DE CIMENTO/ AREIA MÉDIA/ BRITA 1) - PREPARO MECÂNICO COM BETONEIRA 600 L. AF_05/2021 | E16: ='ORÇ MPAL '!E52 -> m³ | F16: ='M.C. ADITIVO 01 '!J10 -> -15.76 | G16: =VLOOKUP(B16,'ORÇ MPAL '!$B$6:$I$557,6,FALSE()) -> 479.35 | H16: =TRUNC(G16*(1+$I$7),2) -> 587.05 | I16: =TRUNC(F16*H16,2) -> -9251.9 | J16: =A16 -> 5.2.8 | K16: =IF(J16="novo",G16*(1-'M.D.G ABART'!$C$13),VLOOKUP(J16,'ORÇ ABART'!$A$6:$I$558,7,FALSE())) -> 374.13 | L16: =IF(J16="novo",K16*(1+$I$7),VLOOKUP(J16,'ORÇ ABART'!$A$6:$I$558,8,FALSE())) -> 458.19 | M16: =TRUNC(L16*F16,2) -> -7221.07 | N16: =VLOOKUP(J16,'ORÇ MPAL '!$A$5:$J$557,6,FALSE()) -> 15.76 | O16: =TRUNC(N16*L16,2) -> 7221.07 | P16: SUPRESSÃO | Q16: =F16+N16 -> 0 | R16: =TRUNC(Q16*L16,2) -> 0
A17: ='ORÇ MPAL '!A53 -> 5.2.9 | B17: ='ORÇ MPAL '!B53 -> 103673 | C17: ='ORÇ MPAL '!C53 -> SINAPI | D17: ='ORÇ MPAL '!D53 -> LANÇAMENTO COM USO DE BOMBA, ADENSAMENTO E ACABAMENTO DE CONCRETO EM ESTRUTURAS. AF_02/2022 | E17: ='ORÇ MPAL '!E53 -> m³ | F17: ='M.C. ADITIVO 01 '!J16 -> -15.76 | G17: =VLOOKUP(B17,'ORÇ MPAL '!$B$6:$I$557,6,FALSE()) -> 38.5 | H17: =TRUNC(G17*(1+$I$7),2) -> 47.15 | I17: =TRUNC(F17*H17,2) -> -743.08 | J17: =A17 -> 5.2.9 | K17: =IF(J17="novo",G17*(1-'M.D.G ABART'!$C$13),VLOOKUP(J17,'ORÇ ABART'!$A$6:$I$558,7,FALSE())) -> 30.04 | L17: =IF(J17="novo",K17*(1+$I$7),VLOOKUP(J17,'ORÇ ABART'!$A$6:$I$558,8,FALSE())) -> 36.8 | M17: =TRUNC(L17*F17,2) -> -579.96 | N17: =VLOOKUP(J17,'ORÇ MPAL '!$A$5:$J$557,6,FALSE()) -> 15.76 | O17: =TRUNC(N17*L17,2) -> 579.96 | P17: SUPRESSÃO | Q17: =F17+N17 -> 0 | R17: =TRUNC(Q17*L17,2) -> 0
A18: 5.2.10 | B18: MP-0082 | C18: Próprio | D18: CONCRETAGEM DE PILARES, FCK = 30 MPA, COM USO DE BOMBA - LANÇAMENTO, ADENSAMENTO E ACABAMENTO. AF_02/2022_PS - (Composição de ref. SINAPI (103672) | E18: m³ | F18: ='M.C. ADITIVO 01 '!J22 -> 15.76 | G18: 659.02 | H18: =TRUNC(G18*(1+$I$7),2) -> 807.1 | I18: =TRUNC(F18*H18,2) -> 12719.89 | J18: =IFERROR(VLOOKUP(B18,'ORÇ MPAL '!$B$6:$K$558,10,FALSE()),"NOVO") -> NOVO | K18: =IF(J18="novo",G18*(1-'M.D.G ABART'!$C$13),VLOOKUP(J18,'ORÇ ABART'!$A$6:$I$558,7,FALSE())) -> 515.02659 | L18: =IF(J18="novo",K18*(1+$I$7),VLOOKUP(J18,'ORÇ ABART'!$A$6:$I$558,8,FALSE())) -> 630.75307 | M18: =TRUNC(L18*F18,2) -> 9940.66 | N18: 0 | O18: =TRUNC(N18*L18,2) -> 0 | P18: ADIÇÃO | Q18: =F18+N18 -> 15.76 | R18: =TRUNC(Q18*L18,2) -> 9940.66
A19: ='ORÇ MPAL '!A55 -> 5.3.1 | D19: ='ORÇ MPAL '!D55 -> BALDRAMES | I19: =SUM(I20:I25) -> 14028.21 | M19: =SUM(M20:M25) -> 10955.55 | O19: =SUM(O20:O25) -> 5949.52 | R19: =SUM(R20:R25) -> 16905.07
A20: ='ORÇ MPAL '!A62 -> 5.3.1.7 | B20: ='ORÇ MPAL '!B62 -> 94966 | C20: ='ORÇ MPAL '!C62 -> SINAPI | D20: ='ORÇ MPAL '!D62 -> CONCRETO FCK = 30MPA, TRAÇO 1:2,1:2,5 (EM MASSA SECA DE CIMENTO/ AREIA MÉDIA/ BRITA 1) - PREPARO MECÂNICO COM BETONEIRA 400 L. AF_05/2021 | E20: ='ORÇ MPAL '!E62 -> m³ | F20: ='M.C. ADITIVO 01 '!J29 -> -11.9 | G20: =VLOOKUP(B20,'ORÇ MPAL '!$B$6:$I$557,6,FALSE()) -> 484.55 | H20: =TRUNC(G20*(1+$I$7),2) -> 593.42 | I20: =TRUNC(F20*H20,2) -> -7061.69 | J20: =A20 -> 5.3.1.7 | K20: =IF(J20="novo",G20*(1-'M.D.G ABART'!$C$13),VLOOKUP(J20,'ORÇ ABART'!$A$6:$I$558,7,FALSE())) -> 378.19 | L20: =IF(J20="novo",K20*(1+$I$7),VLOOKUP(J20,'ORÇ ABART'!$A$6:$I$558,8,FALSE())) -> 463.16 | M20: =TRUNC(L20*F20,2) -> -5511.6 | N20: =VLOOKUP(J20,'ORÇ MPAL '!$A$5:$J$557,6,FALSE()) -> 11.9 | O20: =TRUNC(N20*L20,2) -> 5511.6 | P20: SUPRESSÃO | Q20: =F20+N20 -> 0 | R20: =TRUNC(Q20*L20,2) -> 0
A21: ='ORÇ MPAL '!A63 -> 5.3.1.8 | B21: ='ORÇ MPAL '!B63 -> 103673 | C21: ='ORÇ MPAL '!C63 -> SINAPI | D21: ='ORÇ MPAL '!D63 -> LANÇAMENTO COM USO DE BOMBA, ADENSAMENTO E ACABAMENTO DE CONCRETO EM ESTRUTURAS. AF_02/2022 | E21: ='ORÇ MPAL '!E63 -> m³ | F21: ='M.C. ADITIVO 01 '!J35 -> -11.9 | G21: =VLOOKUP(B21,'ORÇ MPAL '!$B$6:$I$557,6,FALSE()) -> 38.5 | H21: =TRUNC(G21*(1+$I$7),2) -> 47.15 | I21: =TRUNC(F21*H21,2) -> -561.08 | J21: =A21 -> 5.3.1.8 | K21: =IF(J21="novo",G21*(1-'M.D.G ABART'!$C$13),VLOOKUP(J21,'ORÇ ABART'!$A$6:$I$558,7,FALSE())) -> 30.04 | L21: =IF(J21="novo",K21*(1+$I$7),VLOOKUP(J21,'ORÇ ABART'!$A$6:$I$558,8,FALSE())) -> 36.8 | M21: =TRUNC(L21*F21,2) -> -437.92 | N21: =VLOOKUP(J21,'ORÇ MPAL '!$A$5:$J$557,6,FALSE()) -> 11.9 | O21: =TRUNC(N21*L21,2) -> 437.92 | P21: SUPRESSÃO | Q21: =F21+N21 -> 0 | R21: =TRUNC(Q21*L21,2) -> 0
A22: 5.3.1.9 | B22: 96557 | C22: SINAPI | D22: CONCRETAGEM DE BLOCOS DE COROAMENTO OU VIGA BALDRAME, FCK 30 MPA, COM USO DE BOMBA- LANÇAMENTO, ADENSAMENTO E ACABAMENTO. AF_01/2024 | E22: m³ | F22: ='M.C. ADITIVO 01 '!J41 -> 11.9 | G22: 710.58 | H22: =TRUNC(G22*(1+$I$7),2) -> 870.24 | I22: =TRUNC(F22*H22,2) -> 10355.85 | J22: =IFERROR(VLOOKUP(B22,'ORÇ MPAL '!B4:K556,10,FALSE()),"NOVO") -> NOVO | K22: =IF(J22="novo",G22*(1-'M.D.G ABART'!$C$13),VLOOKUP(J22,'ORÇ ABART'!$A$6:$I$558,7,FALSE())) -> 555.32093 | L22: =IF(J22="novo",K22*(1+$I$7),VLOOKUP(J22,'ORÇ ABART'!$A$6:$I$558,8,FALSE())) -> 680.10154 | M22: =TRUNC(L22*F22,2) -> 8093.2 | N22: 0 | O22: =TRUNC(N22*L22,2) -> 0 | P22: ADIÇÃO | Q22: =F22+N22 -> 11.9 | R22: =TRUNC(Q22*L22,2) -> 8093.2
A23: 5.3.1.10 | B23: 102354 | C23: SINAPI | D23: DESMONTE DE MATERIAL DE 3ª CATEGORIA (BLOCOS DE ROCHAS OU MATACOS), COM MARTELETE PNEUMÁTICO MANUAL - EXCLUSIVE CARGA E TRANSPORTE. AF_03/2021 | E23: m³ | F23: ='M.C. ADITIVO 01 '!J76 -> 29.732275 | G23: 143.32 | H23: =TRUNC(G23*(1+$I$7),2) -> 175.52 | I23: =TRUNC(F23*H23,2) -> 5218.6 | J23: =IFERROR(VLOOKUP(B23,'ORÇ MPAL '!B5:K557,10,FALSE()),"NOVO") -> 4.3 | K23: =IF(J23="novo",G23*(1-'M.D.G ABART'!$C$13),VLOOKUP(J23,'ORÇ ABART'!$A$6:$I$558,7,FALSE())) -> 111.86 | L23: =IF(J23="novo",K23*(1+$I$7),VLOOKUP(J23,'ORÇ ABART'!$A$6:$I$558,8,FALSE())) -> 136.99 | M23: =TRUNC(L23*F23,2) -> 4073.02 | N23: 0 | O23: =TRUNC(N23*L23,2) -> 0 | P23: ADIÇÃO | Q23: =F23+N23 -> 29.732275 | R23: =TRUNC(Q23*L23,2) -> 4073.02
A24: 5.3.1.11 | B24: 102361 | C24: SINAPI | D24: RETIRADA DE MATERIAL DE 3ª CATEGORIA (APÓS ESCAVAÇÃO/DESMONTE) EM VALAS, COM RETROESCAVADEIRA - EXCLUSIVE CARGA E TRANSPORTE. AF_03/2021 | E24: m² | F24: ='M.C. ADITIVO 01 '!J83 -> 44.598413 | G24: =VLOOKUP(B24,'ORÇ MPAL '!$B$6:$I$557,6,FALSE()) -> 32.01 | H24: =TRUNC(G24*(1+$I$7),2) -> 39.2 | I24: =TRUNC(F24*H24,2) -> 1748.25 | J24: =IFERROR(VLOOKUP(B24,'ORÇ MPAL '!$B$6:$K$558,10,FALSE()),"NOVO") -> 4.5 | K24: =IF(J24="novo",G24*(1-'M.D.G ABART'!$C$13),VLOOKUP(J24,'ORÇ ABART'!$A$6:$I$558,7,FALSE())) -> 24.98 | L24: =IF(J24="novo",K24*(1+$I$7),VLOOKUP(J24,'ORÇ ABART'!$A$6:$I$558,8,FALSE())) -> 30.59 | M24: =TRUNC(L24*F24,2) -> 1364.26 | N24: 0 | O24: =TRUNC(N24*L24,2) -> 0 | P24: ADIÇÃO | Q24: =F24+N24 -> 44.598413 | R24: =TRUNC(Q24*L24,2) -> 1364.26
A25: 5.3.1.12 | B25: 95875 | C25: ORSE | D25: TRANSPORTE COM CAMINHÃO BASCULANTE DE 10 M³, EM VIA URBANA PAVIMENTADA, DMT ATÉ 30 KM (UNIDADE: M3XKM). AF_07/2020 | E25: m³xkm | F25: ='M.C. ADITIVO 01 '!J91 -> 1467.2141 | G25: =VLOOKUP(B25,'ORÇ MPAL '!$B$6:$I$557,6,FALSE()) -> 2.41 | H25: =TRUNC(G25*(1+$I$7),2) -> 2.95 | I25: =TRUNC(F25*H25,2) -> 4328.28 | J25: =IFERROR(VLOOKUP(B25,'ORÇ MPAL '!$B$6:$K$558,10,FALSE()),"NOVO") -> 4.6 | K25: =IF(J25="novo",G25*(1-'M.D.G ABART'!$C$13),VLOOKUP(J25,'ORÇ ABART'!$A$6:$I$558,7,FALSE())) -> 1.88 | L25: =IF(J25="novo",K25*(1+$I$7),VLOOKUP(J25,'ORÇ ABART'!$A$6:$I$558,8,FALSE())) -> 2.3 | M25: =TRUNC(L25*F25,2) -> 3374.59 | N25: 0 | O25: =TRUNC(N25*L25,2) -> 0 | P25: ADIÇÃO | Q25: =F25+N25 -> 1467.2141 | R25: =TRUNC(Q25*L25,2) -> 3374.59
A26: ='ORÇ ABART'!A64 -> 5.3.2 | D26: ='ORÇ ABART'!D64 -> NÍVEL 1 E NÍVEL 2 | I26: =SUM(I27:I29) -> 11901.63 | M26: =SUM(M27:M29) -> 9345.43 | O26: =SUM(O27:O29) -> 34015.7 | R26: =SUM(R27:R29) -> 43361.13
A27: ='ORÇ MPAL '!A74 -> 5.3.2.10 | B27: ='ORÇ MPAL '!B74 -> 94972 | C27: ='ORÇ MPAL '!C74 -> SINAPI | D27: ='ORÇ MPAL '!D74 -> CONCRETO FCK = 30MPA, TRAÇO 1:2,1:2,5 (EM MASSA SECA DE CIMENTO/ AREIA MÉDIA/ BRITA 1) - PREPARO MECÂNICO COM BETONEIRA 600 L. AF_05/2021 | E27: ='ORÇ MPAL '!E74 -> m³ | F27: ='M.C. ADITIVO 01 '!J98 -> -68.72 | G27: =VLOOKUP(B27,'ORÇ MPAL '!$B$6:$I$557,6,FALSE()) -> 479.35 | H27: =TRUNC(G27*(1+$I$7),2) -> 587.05 | I27: =TRUNC(F27*H27,2) -> -40342.07 | J27: =A27 -> 5.3.2.10 | K27: =IF(J27="novo",G27*(1-'M.D.G ABART'!$C$13),VLOOKUP(J27,'ORÇ ABART'!$A$6:$I$558,7,FALSE())) -> 374.13 | L27: =IF(J27="novo",K27*(1+$I$7),VLOOKUP(J27,'ORÇ ABART'!$A$6:$I$558,8,FALSE())) -> 458.19 | M27: =TRUNC(L27*F27,2) -> -31486.81 | N27: =VLOOKUP(J27,'ORÇ MPAL '!$A$5:$J$557,6,FALSE()) -> 68.72 | O27: =TRUNC(N27*L27,2) -> 31486.81 | P27: SUPRESSÃO | Q27: =F27+N27 -> 0 | R27: =TRUNC(Q27*L27,2) -> 0
