Workbook

Sheet Orçamento Sintético
N1: valor total | O1: 3197835.4
D2: Construção da nova Promotoria de Justiça de Santana do Ipanema - Não desonerado | E2: SINAPI - 09/2024 - Alagoas ORSE - 06/2024 - Sergipe | G2: 22,47% | I2: Não Desonerado: Horista: 115,22% Mensalista: 70,31% | N2: valor desc | O2: 2499989 | P2: =1-O2/O1 -> 0.21822462
A3: Orçamento Sintético | N3: =O2-O3 -> 868.67 | O3: =H561 -> 2499120.3 | P3: 0.2195
A4: Item | B4: Código | C4: Banco | D4: Descrição | E4: Und | F4: Quant. | G4: Valor Unit | H4: Valor Unit com BDI | I4: Total | J4: Peso (%) | L4: Valor Unit | M4: Valor Unit com BDI | N4: Total
A5: 1 | D5: ADMINISTRAÇÃO DE OBRA | I5: =SUM(I6) -> 172855.2 | J5: 0.069255384 | M5: 221467.32 | N5: 221467.32
A6: 1.1 | B6: COMP - 12 | C6: Próprio | D6: ADMINISTRAÇÃO LOCAL | E6: un | F6: 12 | G6: =TRUNC(L6-L6*$P$3,2) -> 11761.74 | H6: =TRUNC(M6-M6*$P$3,2) -> 14404.6 | I6: =ROUND(F6*H6,2) -> 172855.2 | J6: 0.069255384 | L6: 15069.5 | M6: 18455.61 | N6: 221467.32
A7: 2 | D7: MOBILIZAÇÃO | I7: =SUM(I8) -> 4778.4 | J7: 0.0019149203 | M7: 6123.6 | N7: 6123.6
A8: 2.1 | B8: 92144 | C8: SINAPI | D8: CAMINHONETE CABINE SIMPLES COM MOTOR 1.6 FLEX, CÂMBIO MANUAL, POTÊNCIA 101/104 CV, 2 PORTAS - MATERIAIS NA OPERAÇÃO. AF_11/2015 | E8: H | F8: 120 | G8: =TRUNC(L8-L8*$P$3,2) -> 32.52 | H8: =TRUNC(M8-M8*$P$3,2) -> 39.82 | I8: =ROUND(F8*H8,2) -> 4778.4 | J8: 0.0019149203 | L8: 41.67 | M8: 51.03 | N8: 6123.6
A9: 3 | D9: SERVIÇOS PRELIMINARES | I9: =SUM(I10:I23) -> 76367.26 | J9: 0.030598704 | M9: 97849.62 | N9: 97849.62
A10: 3.1 | B10: MP 003 | C10: Próprio | D10: ART DE EXECUÇÃO - CREA AL | E10: und | F10: 3 | G10: =TRUNC(L10-L10*$P$3,2) -> 204.92 | H10: =TRUNC(M10-M10*$P$3,2) -> 250.96 | I10: =ROUND(F10*H10,2) -> 752.88 | J10: 0.0003016478 | L10: 262.55 | M10: 321.54 | N10: 964.62
A11: 3.2 | B11: 97625 | C11: SINAPI | D11: DEMOLIÇÃO DE ALVENARIA PARA QUALQUER TIPO DE BLOCO, DE FORMA MECANIZADA, SEM REAPROVEITAMENTO. AF_09/2023 | E11: m³ | F11: 28.42875 | G11: =TRUNC(L11-L11*$P$3,2) -> 39.14 | H11: =TRUNC(M11-M11*$P$3,2) -> 47.94 | I11: =ROUND(F11*H11,2) -> 1362.87 | J11: 0.00054611003 | L11: 50.16 | M11: 61.43 | N11: 1746.37
A12: 3.3 | B12: 97627 | C12: SINAPI | D12: DEMOLIÇÃO DE PILARES E VIGAS EM CONCRETO ARMADO, DE FORMA MECANIZADA COM MARTELETE, SEM REAPROVEITAMENTO. AF_09/2023 | E12: m³ | F12: 2.36475 | G12: =TRUNC(L12-L12*$P$3,2) -> 119.29 | H12: =TRUNC(M12-M12*$P$3,2) -> 146.09 | I12: =ROUND(F12*H12,2) -> 345.47 | J12: 0.0001384155 | L12: 152.84 | M12: 187.18 | N12: 442.63
A13: 3.4 | B13: 104790 | C13: SINAPI | D13: DEMOLIÇÃO DE PISO DE CONCRETO SIMPLES, DE FORMA MECANIZADA COM MARTELETE, SEM REAPROVEITAMENTO. AF_09/2023 | E13: m³ | F13: 3.6 | G13: =TRUNC(L13-L13*$P$3,2) -> 77.8 | H13: =TRUNC(M13-M13*$P$3,2) -> 95.27 | I13: =ROUND(F13*H13,2) -> 342.97 | J13: 0.00013742108 | L13: 99.68 | M13: 122.07 | N13: 439.45
A14: 3.5 | B14: 9937 | C14: ORSE | D14: Limpeza mecanizada do terreno c/ retroescavadeira (vegetação rasteira) inclusive carga e transporte - dmt até 1km | E14: m² | F14: 1313.26 | G14: =TRUNC(L14-L14*$P$3,2) -> 1.47 | H14: =TRUNC(M14-M14*$P$3,2) -> 1.8 | I14: =ROUND(F14*H14,2) -> 2363.87 | J14: 0.00094865108 | L14: 1.89 | M14: 2.31 | N14: 3033.63
A15: 3.6 | B15: 103689 | C15: SINAPI | D15: FORNECIMENTO E INSTALAÇÃO DE PLACA DE OBRA COM CHAPA GALVANIZADA E ESTRUTURA DE MADEIRA. AF_03/2022_PS | E15: m² | F15: 4.5 | G15: =TRUNC(L15-L15*$P$3,2) -> 361.41 | H15: =TRUNC(M15-M15*$P$3,2) -> 442.62 | I15: =ROUND(F15*H15,2) -> 1991.79 | J15: 0.00079802419 | L15: 463.06 | M15: 567.1 | N15: 2551.95
A16: 3.7 | B16: 98459 | C16: SINAPI | D16: TAPUME COM TELHA METÁLICA. AF_03/2024 | E16: m² | F16: 32.18 | G16: =TRUNC(L16-L16*$P$3,2) -> 70.77 | H16: =TRUNC(M16-M16*$P$3,2) -> 86.67 | I16: =ROUND(F16*H16,2) -> 2789.04 | J16: 0.0011174997 | L16: 90.68 | M16: 111.05 | N16: 3573.58
A17: 3.8 | B17: 9416 | C17: ORSE | D17: Instalação provisória de energia elétrica, aerea, trifasica, em poste galvanizado, exclusive fornecimento do medidor | E17: un | F17: 1 | G17: =TRUNC(L17-L17*$P$3,2) -> 1283.43 | H17: =TRUNC(M17-M17*$P$3,2) -> 1571.82 | I17: =ROUND(F17*H17,2) -> 1571.82 | J17: 0.00062976037 | L17: 1644.38 | M17: 2013.87 | N17: 2013.87
A18: 3.9 | B18: 6096 | C18: ORSE | D18: Ligação Predial de Água em Mureta de Concreto, Provisória ou Definitiva, com Fornecimento de Material, inclusive Mureta e Hidrômetro, Rede DN 50mm - Rev 03_10/2022 | E18: UN | F18: 1 | G18: =TRUNC(L18-L18*$P$3,2) -> 423.95 | H18: =TRUNC(M18-M18*$P$3,2) -> 519.21 | I18: =ROUND(F18*H18,2) -> 519.21 | J18: 0.00020802509 | L18: 543.18 | M18: 665.23 | N18: 665.23
A19: 3.10 | B19: 56 | C19: ORSE | D19: Barracão para escritório de obra porte pequeno s=25,41m2 com materiais novos | E19: un | F19: 1 | G19: =TRUNC(L19-L19*$P$3,2) -> 11797.6 | H19: =TRUNC(M19-M19*$P$3,2) -> 14448.51 | I19: =ROUND(F19*H19,2) -> 14448.51 | J19: 0.0057888752 | L19: 15115.44 | M19: 18511.87 | N19: 18511.87
A20: 3.11 | B20: 62 | C20: ORSE | D20: Barracão fechado porte pequeno para depósito de cimento e almoxarifado (s=38,72 m2) com materiais novos | E20: un | F20: 1 | G20: =TRUNC(L20-L20*$P$3,2) -> 9419.75 | H20: =TRUNC(M20-M20*$P$3,2) -> 11536.36 | I20: =ROUND(F20*H20,2) -> 11536.36 | J20: 0.0046221078 | L20: 12068.87 | M20: 14780.74 | N20: 14780.74
A21: 3.12 | B21: 61 | C21: ORSE | D21: Barracão aberto para refeitório de obra (capacidade 24 refeições simultâneas)-s=61,60m2 com materiais novos | E21: un | F21: 1 | G21: =TRUNC(L21-L21*$P$3,2) -> 13555.57 | H21: =TRUNC(M21-M21*$P$3,2) -> 16601.5 | I21: =ROUND(F21*H21,2) -> 16601.5 | J21: 0.0066514837 | L21: 17367.81 | M21: 21270.35 | N21: 21270.35
... A23: 3.14 | B23: 11703 | C23: ORSE | D23: Barracão aberto para apoio à produção (carpintaria, central de armação, oficina, etc.) c/ tesouras, telha 4mm, piso em concreto desempolado | E23: m² | F23: 25 | G23: =TRUNC(L23-L23*$P$3,2) -> 148.24 | H23: =TRUNC(M23-M23*$P$3,2) -> 181.54 | I23: =ROUND(F23*H23,2) -> 4538.5 | J23: 0.0018184175 | L23: 189.93 | M23: 232.6 | N23: 5815
A24: 4 | D24: TERRAPLANAGEM | I24: =SUM(I25:I32) -> 58839.91 | J24: 0.023579422 | M24: 75403.11 | N24: 75403.11
A25: 4.1 | B25: 2548 | C25: ORSE | D25: Locação de serviços de terraplenagem de obras civis | E25: m² | F25: 1313.26 | G25: =TRUNC(L25-L25*$P$3,2) -> 1.03 | H25: =TRUNC(M25-M25*$P$3,2) -> 1.26 | I25: =ROUND(F25*H25,2) -> 1654.71 | J25: 0.00066528753 | L25: 1.33 | M25: 1.62 | N25: 2127.48
A26: 4.2 | B26: 101124 | C26: SINAPI | D26: ESCAVAÇÃO HORIZONTAL, INCLUINDO CARGA E DESCARGA EM SOLO DE 1A CATEGORIA COM TRATOR DE ESTEIRAS (100HP/LÂMINA: 2,19M3). AF_07/2020 | E26: m³ | F26: 26.11 | G26: =TRUNC(L26-L26*$P$3,2) -> 11.17 | H26: =TRUNC(M26-M26*$P$3,2) -> 13.68 | I26: =ROUND(F26*H26,2) -> 357.18 | J26: 0.00014312807 | L26: 14.32 | M26: 17.53 | N26: 457.7
A27: 4.3 | B27: 102354 | C27: SINAPI | D27: DESMONTE DE MATERIAL DE 3ª CATEGORIA (BLOCOS DE ROCHAS OU MATACOS), COM MARTELETE PNEUMÁTICO MANUAL - EXCLUSIVE CARGA E TRANSPORTE. AF_03/2021 | E27: m³ | F27: 61.128 | G27: =TRUNC(L27-L27*$P$3,2) -> 111.86 | H27: =TRUNC(M27-M27*$P$3,2) -> 136.99 | I27: =ROUND(F27*H27,2) -> 8373.92 | J27: 0.0033551383 | L27: 143.32 | M27: 175.52 | N27: 10729.18
A28: 4.4 | B28: 4522 | C28: ORSE | D28: Desmonte de rocha dura incluindo perfuração e argamassa expansiva | E28: m³ | F28: 91.692 | G28: =TRUNC(L28-L28*$P$3,2) -> 264.46 | H28: =TRUNC(M28-M28*$P$3,2) -> 323.88 | I28: =ROUND(F28*H28,2) -> 29697.2 | J28: 0.011898492 | L28: 338.84 | M28: 414.97 | N28: 38049.42
A29: 4.5 | B29: 102361 | C29: SINAPI | D29: RETIRADA DE MATERIAL DE 3ª CATEGORIA (APÓS ESCAVAÇÃO/DESMONTE) EM VALAS, COM RETROESCAVADEIRA - EXCLUSIVE CARGA E TRANSPORTE. AF_03/2021 | E29: m³ | F29: 152.82 | G29: =TRUNC(L29-L29*$P$3,2) -> 24.98 | H29: =TRUNC(M29-M29*$P$3,2) -> 30.59 | I29: =ROUND(F29*H29,2) -> 4674.76 | J29: 0.0018733109 | L29: 32.01 | M29: 39.2 | N29: 5990.54
A30: 4.6 | B30: 95875 | C30: SINAPI | D30: TRANSPORTE COM CAMINHÃO BASCULANTE DE 10 M³, EM VIA URBANA PAVIMENTADA, DMT ATÉ 30 KM (UNIDADE: M3XKM). AF_07/2020 | E30: M3XKM | F30: 1902.77 | G30: =TRUNC(L30-L30*$P$3,2) -> 1.88 | H30: =TRUNC(M30-M30*$P$3,2) -> 2.3 | I30: =ROUND(F30*H30,2) -> 4376.37 | J30: 0.001755303 | L30: 2.41 | M30: 2.95 | N30: 5613.17
A31: 4.7 | B31: 00000368 | C31: SINAPI | D31: AREIA PARA ATERRO - POSTO JAZIDA/FORNECEDOR (RETIRADO NA JAZIDA, SEM TRANSPORTE) | E31: M³ | F31: 113.47 | G31: =TRUNC(L31-L31*$P$3,2) -> 37.07 | H31: =TRUNC(M31-M31*$P$3,2) -> 45.4 | I31: =ROUND(F31*H31,2) -> 5151.54 | J31: 0.002064065 | L31: 47.5 | M31: 58.17 | N31: 6600.54
A32: 4.8 | B32: 71 | C32: ORSE | D32: Aterro manual de áreas, sem aquisição de material, com espalhamento e compactação | E32: m³ | F32: 90.776 | G32: =TRUNC(L32-L32*$P$3,2) -> 40.96 | H32: =TRUNC(M32-M32*$P$3,2) -> 50.17 | I32: =ROUND(F32*H32,2) -> 4554.23 | J32: 0.0018246968 | L32: 52.49 | M32: 64.28 | N32: 5835.08
A33: 5 | B33: * | D33: ESTRUTURA | I33: =SUM(I34,I38,I44,I54,I76,I89,I100,I108,I119) -> 830673.87 | J33: 0.33287053 | L33: =M33-M33*P3 -> 830815.05 | M33: 1064465.1 | N33: 1064465.1
A34: 5.1 | B34: * | D34: LOCAÇÃO DA OBRA, FUNDAÇÕES E VIGAS BALDRAMES | I34: =SUM(I35,I36,I37) -> 17057.42 | J34: 0.019265598 | M34: 61608.21 | N34: 61608.21
A35: 5.1.1 | B35: 105009 | C35: SINAPI | D35: LOCAÇÃO CONVENCIONAL DE OBRA, UTILIZANDO GABARITO DE TÁBUAS CORRIDAS PONTALETADAS A CADA 1,50M - 2 UTILIZAÇÕES. AF_03/2024 | E35: M | F35: 101.12 | G35: =TRUNC(L35-L35*$P$3,2) -> 54.54 | H35: =TRUNC(M35-M35*$P$3,2) -> 66.8 | I35: =ROUND(F35*H35,2) -> 6754.82 | J35: 0.0027064745 | L35: 69.89 | M35: 85.59 | N35: 8654.86
A36: 5.1.2 | B36: 96523 | C36: SINAPI | D36: ESCAVAÇÃO MANUAL PARA BLOCO DE COROAMENTO OU SAPATA (INCLUINDO ESCAVAÇÃO PARA COLOCAÇÃO DE FÔRMAS). AF_01/2024 | E36: m³ | F36: 99.2 | G36: =TRUNC(L36-L36*$P$3,2) -> 68.2 | H36: =TRUNC(M36-M36*$P$3,2) -> 83.52 | I36: =ROUND(F36*H36,2) -> 8285.18 | J36: 0.0033195548 | L36: 87.38 | M36: 107.01 | N36: 10615.39
A37: 5.1.3 | B37: 96619 | C37: SINAPI | D37: LASTRO DE CONCRETO MAGRO, APLICADO EM BLOCOS DE COROAMENTO OU SAPATAS, ESPESSURA DE 5 CM. AF_01/2024 | E37: m² | F37: 59.11 | G37: =TRUNC(L37-L37*$P$3,2) -> 27.87 | H37: =TRUNC(M37-M37*$P$3,2) -> 34.13 | I37: =ROUND(F37*H37,2) -> 2017.42 | J37: 0.00080832178 | L37: 35.71 | M37: 43.73 | N37: 2584.88
A38: 5.1.4 | B38: * | D38: FORMA, AÇO E CONCRETO | I38: =SUM(I39,I40,I41,I42,I43) -> 31021.89 | J38: 0.012431246 | M38: 39753.08 | N38: 39753.08
A39: 5.1.4.1 | B39: 96541 | C39: SINAPI | D39: FABRICAÇÃO, MONTAGEM E DESMONTAGEM DE FÔRMA PARA SAPATA, EM CHAPA DE MADEIRA COMPENSADA RESINADA, E=17 MM, 4 UTILIZAÇÕES. AF_01/2024 | E39: m² | F39: 32.63 | G39: =TRUNC(L39-L39*$P$3,2) -> 139.06 | H39: =TRUNC(M39-M39*$P$3,2) -> 170.3 | I39: =ROUND(F39*H39,2) -> 5556.89 | J39: 0.0022264623 | L39: 178.17 | M39: 218.2 | N39: 7119.86
A40: 5.1.4.2 | B40: 96545 | C40: SINAPI | D40: ARMAÇÃO DE BLOCO UTILIZANDO AÇO CA-50 DE 8 MM - MONTAGEM. AF_01/2024 | E40: KG | F40: 29 | G40: =TRUNC(L40-L40*$P$3,2) -> 13.62 | H40: =TRUNC(M40-M40*$P$3,2) -> 16.68 | I40: =ROUND(F40*H40,2) -> 483.72 | J40: 0.0001938874 | L40: 17.46 | M40: 21.38 | N40: 620.02
A41: 5.1.4.3 | B41: 96546 | C41: SINAPI | D41: ARMAÇÃO DE BLOCO UTILIZANDO AÇO CA-50 DE 10 MM - MONTAGEM. AF_01/2024 | E41: KG | F41: 385 | G41: =TRUNC(L41-L41*$P$3,2) -> 12.05 | H41: =TRUNC(M41-M41*$P$3,2) -> 14.76 | I41: =ROUND(F41*H41,2) -> 5682.6 | J41: 0.0022778533 | L41: 15.45 | M41: 18.92 | N41: 7284.2
...

Sheet CRONOGRAMA REV 3 
A3: CRONOGRAMA
A4: Item | B4: Discriminação | C4: Preço Total (R$) | D4: % | E4: Mês 01 | F4: Mês 02 | G4: Mês 03 | H4: Mês 04 | I4: Mês 05 | J4: Mês 06 | K4: Mês 07 | L4: Mês 08 | M4: Mês 09 | N4: Mês 10 | O4: Mês 11 | P4: Mês 12 | Q4: conferencia
A5: 1 | B5: ='Orçamento Sintético'!D5 -> ADMINISTRAÇÃO DE OBRA | C5: ='Orçamento Sintético'!I5 -> 172855.2 | D5: =C5/$C$49 -> 0.069166418 | E5: =E6*$C$5 -> 10163.886 | F5: =F6*$C$5 -> 9420.6084 | G5: =G6*$C$5 -> 5514.0809 | H5: =H6*$C$5 -> 16957.095 | I5: =I6*$C$5 -> 19480.781 | J5: =J6*$C$5 -> 10146.6 | K5: =K6*$C$5 -> 11685.012 | L5: =L6*$C$5 -> 14502.551 | ... P5: =P6*$C$5 -> 4978.2298 | Q5: =SUM(E5:P5) -> 172855.2 | R5: =C5-Q5 -> 0
E6: 0.0588 | F6: 0.0545 | G6: 0.0319 | H6: 0.0981 | I6: 0.1127 | J6: 0.0587 | K6: 0.0676 | L6: 0.0839 | M6: 0.1218 | N6: 0.1629 | O6: 0.1203 | P6: 0.0288 | Q6: =SUM(E6:P6) -> 1 | R6: =C6-Q6 -> -1
A7: 2 | B7: ='Orçamento Sintético'!D7 -> MOBILIZAÇÃO | C7: ='Orçamento Sintético'!I7 -> 4778.4 | D7: =C7/$C$49 -> 0.0019120328 | E7: =E8*$C$7 -> 280.96992 | F7: =F8*$C$7 -> 260.4228 | G7: =G8*$C$7 -> 152.43096 | H7: =H8*$C$7 -> 468.76104 | I7: =I8*$C$7 -> 538.52568 | J7: =J8*$C$7 -> 280.49208 | K7: =K8*$C$7 -> 323.01984 | L7: =L8*$C$7 -> 400.90776 | ... P7: =P8*$C$7 -> 137.61792 | Q7: =SUM(E7:P7) -> 4778.4 | R7: =C7-Q7 -> 0
E8: 0.0588 | F8: 0.0545 | G8: 0.0319 | H8: 0.0981 | I8: 0.1127 | J8: 0.0587 | K8: 0.0676 | L8: 0.0839 | M8: 0.1218 | N8: 0.1629 | O8: 0.1203 | P8: 0.0288 | Q8: =SUM(E8:P8) -> 1 | R8: =C8-Q8 -> -1
A9: 3 | B9: ='Orçamento Sintético'!D9 -> SERVIÇOS PRELIMINARES | C9: ='Orçamento Sintético'!I9 -> 76367.26 | D9: =C9/$C$49 -> 0.030557656 | E9: =E10*$C$9 -> 76367.26 | F9: =F10*$C$9 -> 0 | G9: =G10*$C$9 -> 0 | H9: =H10*$C$9 -> 0 | I9: =I10*$C$9 -> 0 | J9: =J10*$C$9 -> 0 | K9: =K10*$C$9 -> 0 | L9: =L10*$C$9 -> 0 | ... P9: =P10*$C$9 -> 0 | Q9: =SUM(E9:P9) -> 76367.26 | R9: =C9-Q9 -> 0
E10: 1 | Q10: =SUM(E10:P10) -> 1 | R10: =C10-Q10 -> -1
A11: 4 | B11: ='Orçamento Sintético'!D24 -> TERRAPLANAGEM | C11: ='Orçamento Sintético'!I24 -> 58839.91 | D11: =C11/$C$49 -> 0.023544249 | E11: =E12*$C$11 -> 58839.91 | F11: =F12*$C$11 -> 0 | G11: =G12*$C$11 -> 0 | H11: =H12*$C$11 -> 0 | I11: =I12*$C$11 -> 0 | J11: =J12*$C$11 -> 0 | K11: =K12*$C$11 -> 0 | L11: =L12*$C$11 -> 0 | ... P11: =P12*$C$11 -> 0 | Q11: =SUM(E11:P11) -> 58839.91 | R11: =C11-Q11 -> 0
E12: 1 | Q12: =SUM(E12:P12) -> 1 | R12: =C12-Q12 -> -1
A13: 5 | B13: ='Orçamento Sintético'!D33 -> ESTRUTURA | C13: ='Orçamento Sintético'!I33 -> 830673.87 | D13: =C13/$C$49 -> 0.33238651 | E13: =E14*$C$13 -> 0 | F13: =F14*$C$13 -> 146115.53 | G13: =G14*$C$13 -> 73099.301 | H13: =H14*$C$13 -> 224115.81 | I13: =I14*$C$13 -> 258422.64 | J13: =J14*$C$13 -> 99930.067 | K13: =K14*$C$13 -> 28990.518 | L13: =L14*$C$13 -> 0 | ... P13: =P14*$C$13 -> 0 | Q13: =SUM(E13:P13) -> 830673.87 | R13: =C13-Q13 -> 0
F14: 0.1759 | G14: 0.088 | H14: 0.2698 | I14: 0.3111 | J14: 0.1203 | K14: 0.0349 | Q14: =SUM(E14:P14) -> 1 | R14: =C14-Q14 -> -1
A15: 6 | B15: ='Orçamento Sintético'!D125 -> VEDAÇÃO E ELEVAÇÕES INTERNAS E EXTERNAS | C15: ='Orçamento Sintético'!I125 -> 192976.52 | D15: =C15/$C$49 -> 0.077217779 | E15: =E16*$C$15 -> 0 | F15: 0 | G15: 0 | H15: 0 | I15: 0 | J15: 0 | K15: =K16*$C$15 -> 83867.596 | L15: =L16*$C$15 -> 72481.981 | M15: =M16*$C$15 -> 36626.943 | N15: =N16*$C$15 -> 0 | O15: =O16*$C$15 -> 0 | P15: =P16*$C$15 -> 0 | Q15: =SUM(E15:P15) -> 192976.52 | R15: =C15-Q15 -> 0
K16: 0.4346 | L16: 0.3756 | M16: 0.1898 | Q16: =SUM(E16:P16) -> 1 | R16: =C16-Q16 -> -1
A17: 7 | B17: ='Orçamento Sintético'!D149 -> COBERTURA | C17: ='Orçamento Sintético'!I149 -> 42440.76 | D17: =C17/$C$49 -> 0.01698228 | E17: =E18*$C$17 -> 0 | F17: =F18*$C$17 -> 0 | G17: =G18*$C$17 -> 0 | H17: =H18*$C$17 -> 0 | I17: =I18*$C$17 -> 0 | J17: =J18*$C$17 -> 0 | K17: =K18*$C$17 -> 42440.76 | L17: 0 | M17: 0 | N17: =N18*$C$17 -> 0 | O17: =O18*$C$17 -> 0 | P17: =P18*$C$17 -> 0 | Q17: =SUM(E17:P17) -> 42440.76 | R17: =C17-Q17 -> 0
K18: 1 | Q18: =SUM(E18:P18) -> 1 | R18: =C18-Q18 -> -1
A19: 8 | B19: ='Orçamento Sintético'!D155 -> IMPERMEABILIZAÇÃO | C19: ='Orçamento Sintético'!I155 -> 35324.53 | D19: =C19/$C$49 -> 0.014134786 | E19: =E20*$C$19 -> 0 | F19: =F20*$C$19 -> 0 | G19: =G20*$C$19 -> 0 | H19: =H20*$C$19 -> 0 | I19: =I20*$C$19 -> 0 | J19: =J20*$C$19 -> 0 | K19: 0 | L19: =L20*$C$19 -> 33575.966 | M19: =M20*$C$19 -> 1748.5642 | N19: =N20*$C$19 -> 0 | O19: =O20*$C$19 -> 0 | P19: =P20*$C$19 -> 0 | Q19: =SUM(E19:P19) -> 35324.53 | R19: =C19-Q19 -> 0
L20: 0.9505 | M20: 0.0495 | Q20: =SUM(E20:P20) -> 1 | R20: =C20-Q20 -> -1
A21: 9 | B21: ='Orçamento Sintético'!D163 -> PAVIMENTAÇÃO | C21: ='Orçamento Sintético'!I163 -> 83931.8 | D21: =C21/$C$49 -> 0.033584537 | E21: =E22*$C$21 -> 0 | F21: =F22*$C$21 -> 0 | G21: =G22*$C$21 -> 0 | H21: =H22*$C$21 -> 0 | I21: =I22*$C$21 -> 0 | J21: 0 | K21: 0 | L21: =L22*$C$21 -> 16257.59 | M21: 0 | N21: =N22*$C$21 -> 67674.21 | O21: =O22*$C$21 -> 0 | P21: =P22*$C$21 -> 0 | Q21: =SUM(E21:P21) -> 83931.8 | R21: =C21-Q21 -> 0
L22: 0.1937 | N22: 0.8063 | Q22: =SUM(E22:P22) -> 1 | R22: =C22-Q22 -> -1
A23: 10 | B23: ='Orçamento Sintético'!D177 -> REVESTIMENTOS INTERNOS E EXTERNOS | C23: ='Orçamento Sintético'!I177 -> 317669.02 | D23: =C23/$C$49 -> 0.12711234 | E23: =E24*$C$23 -> 0 | F23: =F24*$C$23 -> 0 | G23: =G24*$C$23 -> 0 | H23: =H24*$C$23 -> 0 | I23: =I24*$C$23 -> 0 | J23: =J24*$C$23 -> 0 | K23: =K24*$C$23 -> 0 | L23: 0 | M23: =M24*$C$23 -> 172684.88 | N23: =N24*$C$23 -> 144984.14 | O23: =O24*$C$23 -> 0 | P23: =P24*$C$23 -> 0 | Q23: =SUM(E23:P23) -> 317669.02 | R23: =C23-Q23 -> 0
M24: 0.5436 | N24: 0.4564 | Q24: =SUM(E24:P24) -> 1 | R24: =C24-Q24 -> -1
A25: 11 | B25: ='Orçamento Sintético'!D197 -> ESQUADRIAS | C25: ='Orçamento Sintético'!I197 -> 88750.18 | D25: =C25/$C$49 -> 0.035512568 | E25: =E26*$C$25 -> 0 | F25: =F26*$C$25 -> 0 | G25: =G26*$C$25 -> 0 | H25: =H26*$C$25 -> 0 | I25: =I26*$C$25 -> 0 | J25: =J26*$C$25 -> 0 | K25: =K26*$C$25 -> 0 | L25: =L26*$C$25 -> 0 | ... P25: =P26*$C$25 -> 0 | Q25: =SUM(E25:P25) -> 88750.18 | R25: =C25-Q25 -> 0
M26: 0.028 | N26: 0.972 | Q26: =SUM(E26:P26) -> 1 | R26: =C26-Q26 -> -1
A27: 12 | B27: ='Orçamento Sintético'!D212 -> INSTALAÇÕES HIDROSSANITÁRIAS | C27: ='Orçamento Sintético'!I212 -> 45772.73 | D27: =C27/$C$49 -> 0.018315537 | E27: =E28*$C$27 -> 0 | F27: =F28*$C$27 -> 0 | G27: =G28*$C$27 -> 0 | H27: =H28*$C$27 -> 0 | I27: =I28*$C$27 -> 0 | J27: =J28*$C$27 -> 0 | K27: =K28*$C$27 -> 0 | L27: =L28*$C$27 -> 14372.637 | ... P27: =P28*$C$27 -> 0 | Q27: =SUM(E27:P27) -> 45772.73 | R27: =C27-Q27 -> 0
L28: 0.314 | M28: 0.686 | Q28: =SUM(E28:P28) -> 1 | R28: =C28-Q28 -> -1
A29: 13 | B29: ='Orçamento Sintético'!D336 -> BANCADAS , LOUÇAS E METAIS | C29: ='Orçamento Sintético'!I336 -> 41036.45 | D29: =C29/$C$49 -> 0.016420358 | E29: =E30*$C$29 -> 0 | F29: =F30*$C$29 -> 0 | G29: =G30*$C$29 -> 0 | H29: =H30*$C$29 -> 0 | I29: =I30*$C$29 -> 0 | J29: =J30*$C$29 -> 0 | K29: =K30*$C$29 -> 0 | L29: =L30*$C$29 -> 0 | ... P29: =P30*$C$29 -> 0 | Q29: =SUM(E29:P29) -> 41036.45 | R29: =C29-Q29 -> 0
O30: 1 | Q30: =SUM(E30:P30) -> 1 | R30: =C30-Q30 -> -1
A31: 14 | B31: ='Orçamento Sintético'!D353 -> INSTALAÇÕES ELÉTRICAS | C31: ='Orçamento Sintético'!I353 -> 87693.64 | D31: =C31/$C$49 -> 0.035089803 | E31: =E32*$C$31 -> 0 | F31: =F32*$C$31 -> 0 | G31: =G32*$C$31 -> 0 | H31: =H32*$C$31 -> 0 | I31: =I32*$C$31 -> 0 | J31: =J32*$C$31 -> 0 | K31: =K32*$C$31 -> 0 | L31: =L32*$C$31 -> 26641.328 | ... P31: =P32*$C$31 -> 0 | Q31: =SUM(E31:P31) -> 87693.64 | R31: =C31-Q31 -> 0
L32: 0.3038 | M32: 0.1253 | N32: 0.5709 | Q32: =SUM(E32:P32) -> 1 | R32: =C32-Q32 -> -1
A33: 15 | B33: ='Orçamento Sintético'!D430 -> SPDA | C33: ='Orçamento Sintético'!I430 -> 13825.97 | D33: =C33/$C$49 -> 0.0055323347 | E33: =E34*$C$33 -> 0 | F33: =F34*$C$33 -> 0 | G33: =G34*$C$33 -> 0 | H33: =H34*$C$33 -> 1212.5376 | I33: =I34*$C$33 -> 544.74322 | J33: =J34*$C$33 -> 11645.615 | K33: =K34*$C$33 -> 0 | L33: =L34*$C$33 -> 0 | ... P33: =P34*$C$33 -> 0 | Q33: =SUM(E33:P33) -> 13825.97 | R33: =C33-Q33 -> 0
H34: 0.0877 | I34: 0.0394 | J34: 0.8423 | N34: 0.0306 | Q34: =SUM(E34:P34) -> 1 | R34: =C34-Q34 -> -1
A35: 16 | B35: ='Orçamento Sintético'!D449 -> INSTALAÇÕES DE AR CONDICIONADO | C35: ='Orçamento Sintético'!I449 -> 71737.33 | D35: =C35/$C$49 -> 0.028705032 | E35: =E36*$C$35 -> 0 | F35: =F36*$C$35 -> 0 | G35: =G36*$C$35 -> 0 | H35: =H36*$C$35 -> 0 | I35: =I36*$C$35 -> 0 | J35: =J36*$C$35 -> 0 | K35: =K36*$C$35 -> 0 | L35: =L36*$C$35 -> 0 | ... O35: =O36*$C$35 -> 53551.917 | Q35: =SUM(E35:P35) -> 71737.33 | R35: =C35-Q35 -> 0
M36: 0.2535 | O36: 0.7465 | Q36: =SUM(E36:P36) -> 1 | R36: =C36-Q36 -> -1
A37: 17 | B37: ='Orçamento Sintético'!D464 -> CABEAMENTO ESTRUTURADO , CFTV E ALARME | C37: ='Orçamento Sintético'!I464 -> 79522.31 | D37: =C37/$C$49 -> 0.031820121 | E37: =E38*$C$37 -> 0 | F37: =F38*$C$37 -> 0 | G37: =G38*$C$37 -> 0 | H37: =H38*$C$37 -> 0 | I37: =I38*$C$37 -> 0 | J37: =J38*$C$37 -> 0 | K37: =K38*$C$37 -> 0 | L37: =L38*$C$37 -> 30552.472 | ... P37: =P38*$C$37 -> 16548.593 | Q37: =SUM(E37:P37) -> 79522.31 | R37: =C37-Q37 -> 0
L38: 0.3842 | M38: 0.103 | N38: 0.3047 | P38: 0.2081 | Q38: =SUM(E38:P38) -> 1 | R38: =C38-Q38 -> -1
A39: 18 | B39: ='Orçamento Sintético'!D501 -> COMBATE A INCÊNDIO E PÂNICO | C39: ='Orçamento Sintético'!I501 -> 5032.56 | D39: =C39/$C$49 -> 0.0020137326 | E39: =E40*$C$39 -> 0 | F39: =F40*$C$39 -> 0 | G39: =G40*$C$39 -> 0 | H39: =H40*$C$39 -> 0 | I39: =I40*$C$39 -> 0 | J39: =J40*$C$39 -> 0 | K39: =K40*$C$39 -> 0 | L39: =L40*$C$39 -> 0 | ... P39: =P40*$C$39 -> 4850.3813 | Q39: =SUM(E39:P39) -> 5032.56 | R39: =C39-Q39 -> 0
N40: 0.0362 | P40: 0.9638 | Q40: =SUM(E40:P40) -> 1 | R40: =C40-Q40 -> -1
A41: 19 | B41: ='Orçamento Sintético'!D508 -> PINTURA | C41: ='Orçamento Sintético'!I508 -> 29861.47 | D41: =C41/$C$49 -> 0.011948792 | E41: =E42*$C$41 -> 0 | F41: =F42*$C$41 -> 0 | G41: =G42*$C$41 -> 0 | H41: =H42*$C$41 -> 0 | I41: =I42*$C$41 -> 0 | J41: =J42*$C$41 -> 0 | K41: =K42*$C$41 -> 0 | L41: =L42*$C$41 -> 0 | ... P41: =P42*$C$41 -> 16098.318 | Q41: =SUM(E41:P41) -> 29861.47 | R41: =C41-Q41 -> 0
O42: 0.4609 | P42: 0.5391 | Q42: =SUM(E42:P42) -> 1 | R42: =C42-Q42 -> -1
...

Sheet COMPOSIÇÃO
D2: Obra | E2: Bancos | G2: B.D.I. | I2: Encargos Sociais | N2: DESC | O2: ='Orçamento Sintético'!P3 -> 0.2195
D3: Construção da nova Promotoria de Justiça de Santana do Ipanema - Não desonerado | E3: SINAPI - 09/2024 - Alagoas ORSE - 06/2024 - Sergipe | G3: 22,47% | I3: Não Desonerado: Horista: 115,22% Mensalista: 70,31%
A4: Composições
A5: 1 | D5: ADMINISTRAÇÃO DE OBRA | N5: =I5 -> 0 | O5: =J5 -> 0
A6: 1.1 | B6: Código | C6: Banco | D6: Descrição | E6: Tipo | G6: Und | H6: Quant. | I6: Valor Unit | J6: Total | N6: Valor Unit | O6: Total
A7: Composição | B7: COMP - 12 | C7: Próprio | D7: ADMINISTRAÇÃO LOCAL | G7: un | H7: 1 | I7: =L7 -> 11761.74 | J7: =M7 -> 11761.74 | L7: =TRUNC(N7-N7*$O$2,2) -> 11761.74 | M7: =TRUNC(O7-O7*$O$2,2) -> 11761.74 | N7: 15069.5 | O7: 15069.5
A8: Composição Auxiliar | B8: 93572 | C8: SINAPI | D8: ENCARREGADO GERAL DE OBRAS COM ENCARGOS COMPLEMENTARES | E8: SEDI - SERVIÇOS DIVERSOS | G8: MES | H8: 1 | I8: =L8 -> 3572.73 | J8: =M8 -> 3572.73 | L8: =TRUNC(N8-N8*$O$2,2) -> 3572.73 | M8: =TRUNC(O8-O8*$O$2,2) -> 3572.73 | N8: 4577.5 | O8: 4577.5
A9: Composição Auxiliar | B9: 90778 | C9: SINAPI | D9: ENGENHEIRO CIVIL DE OBRA PLENO COM ENCARGOS COMPLEMENTARES | E9: SEDI - SERVIÇOS DIVERSOS | G9: H | H9: 80 | I9: =L9 -> 102.36 | J9: =M9 -> 8189 | L9: =TRUNC(N9-N9*$O$2,2) -> 102.36 | M9: =TRUNC(O9-O9*$O$2,2) -> 8189 | N9: 131.15 | O9: 10492
M10: =TRUNC(O10-O10*$O$2,2) -> 11227.35 | N10: MO com LS => | O10: 14384.82
H11: Valor com BDI => | J11: =M11 -> 14404.6 | L11: =TRUNC(N11-N11*$O$2,2) -> 0 | M11: =TRUNC(O11-O11*$O$2,2) -> 14404.6 | N11: 0 | O11: 18455.61
M12: =TRUNC(O12-O12*$O$2,2) -> 172855.24 | N12: Preço Total => | O12: 221467.32
L13: =TRUNC(N13-N13*$O$2,2) -> 0 | M13: =TRUNC(O13-O13*$O$2,2) -> 0 | N13: 0 | O13: 0
A14: 2 | D14: MOBILIZAÇÃO | L14: =TRUNC(N14-N14*$O$2,2) -> 0 | M14: =TRUNC(O14-O14*$O$2,2) -> 0 | N14: 0 | O14: 0
A15: 2.1 | B15: Código | C15: Banco | D15: Descrição | E15: Tipo | G15: Und | H15: Quant. | I15: Valor Unit | J15: Total
A16: Composição | B16: 92144 | C16: SINAPI | D16: CAMINHONETE CABINE SIMPLES COM MOTOR 1.6 FLEX, CÂMBIO MANUAL, POTÊNCIA 101/104 CV, 2 PORTAS - MATERIAIS NA OPERAÇÃO. AF_11/2015 | E16: CHOR - CUSTOS HORÁRIOS DE MÁQUINAS E EQUIPAMENTOS | G16: H | H16: 1 | I16: =L16 -> 32.52 | J16: =M16 -> 32.52 | L16: =TRUNC(N16-N16*$O$2,2) -> 32.52 | M16: =TRUNC(O16-O16*$O$2,2) -> 32.52 | N16: 41.67 | O16: 41.67
A17: Insumo | B17: 00004222 | C17: SINAPI | D17: GASOLINA COMUM | E17: Material | G17: L | H17: 6.69 | I17: =L17 -> 4.86 | J17: =M17 -> 32.52 | L17: =TRUNC(N17-N17*$O$2,2) -> 4.86 | M17: =TRUNC(O17-O17*$O$2,2) -> 32.52 | N17: 6.23 | O17: 41.67
M18: =TRUNC(O18-O18*$O$2,2) -> 0 | N18: MO com LS => | O18: 0
H19: Valor com BDI => | J19: =M19 -> 39.82 | L19: =TRUNC(N19-N19*$O$2,2) -> 0 | M19: =TRUNC(O19-O19*$O$2,2) -> 39.82 | N19: 0 | O19: 51.03
M20: =TRUNC(O20-O20*$O$2,2) -> 4779.46 | N20: Preço Total => | O20: 6123.6
L21: =TRUNC(N21-N21*$O$2,2) -> 0 | M21: =TRUNC(O21-O21*$O$2,2) -> 0 | N21: 0 | O21: 0
A22: 3 | D22: SERVIÇOS PRELIMINARES | L22: =TRUNC(N22-N22*$O$2,2) -> 0 | M22: =TRUNC(O22-O22*$O$2,2) -> 0 | N22: 0 | O22: 0
B23: Código | C23: Banco | D23: Descrição | E23: Tipo | G23: Und | H23: Quant. | I23: Valor Unit | J23: Total
A24: Insumo | B24: MP 003 | C24: Próprio | D24: ART DE EXECUÇÃO - CREA AL | E24: Equipamento | G24: und | H24: 1 | I24: =L24 -> 204.92 | J24: =M24 -> 204.92 | L24: =TRUNC(N24-N24*$O$2,2) -> 204.92 | M24: =TRUNC(O24-O24*$O$2,2) -> 204.92 | N24: 262.55 | O24: 262.55
M25: =TRUNC(O25-O25*$O$2,2) -> 0 | N25: MO com LS => | O25: 0
H26: Valor com BDI => | J26: =M26 -> 250.96 | L26: =TRUNC(N26-N26*$O$2,2) -> 0 | M26: =TRUNC(O26-O26*$O$2,2) -> 250.96 | N26: 0 | O26: 321.54
M27: =TRUNC(O27-O27*$O$2,2) -> 752.88 | N27: Preço Total => | O27: 964.62
L28: =TRUNC(N28-N28*$O$2,2) -> 0 | M28: =TRUNC(O28-O28*$O$2,2) -> 0 | N28: 0 | O28: 0
A29: 3.2 | B29: Código | C29: Banco | D29: Descrição | E29: Tipo | G29: Und | H29: Quant. | I29: Valor Unit | J29: Total
A30: Composição | B30: 97625 | C30: SINAPI | D30: DEMOLIÇÃO DE ALVENARIA PARA QUALQUER TIPO DE BLOCO, DE FORMA MECANIZADA, SEM REAPROVEITAMENTO. AF_09/2023 | E30: SERP - SERVIÇOS PRELIMINARES | G30: m³ | H30: 1 | I30: =L30 -> 39.14 | J30: =M30 -> 39.14 | L30: =TRUNC(N30-N30*$O$2,2) -> 39.14 | M30: =TRUNC(O30-O30*$O$2,2) -> 39.14 | N30: 50.16 | O30: 50.16
A31: Composição Auxiliar | B31: 5940 | C31: SINAPI | D31: PÁ CARREGADEIRA SOBRE RODAS, POTÊNCIA LÍQUIDA 128 HP, CAPACIDADE DA CAÇAMBA 1,7 A 2,8 M3, PESO OPERACIONAL 11632 KG - CHP DIURNO. AF_06/2014 | E31: CHOR - CUSTOS HORÁRIOS DE MÁQUINAS E EQUIPAMENTOS | G31: CHP | H31: 0.24 | I31: =L31 -> 133.74 | J31: =M31 -> 32.09 | L31: =TRUNC(N31-N31*$O$2,2) -> 133.74 | M31: =TRUNC(O31-O31*$O$2,2) -> 32.09 | N31: 171.36 | O31: 41.12
A32: Composição Auxiliar | B32: 5942 | C32: SINAPI | D32: PÁ CARREGADEIRA SOBRE RODAS, POTÊNCIA LÍQUIDA 128 HP, CAPACIDADE DA CAÇAMBA 1,7 A 2,8 M3, PESO OPERACIONAL 11632 KG - CHI DIURNO. AF_06/2014 | E32: CHOR - CUSTOS HORÁRIOS DE MÁQUINAS E EQUIPAMENTOS | G32: CHI | H32: 0.1394 | I32: =L32 -> 50.64 | J32: =M32 -> 7.05 | L32: =TRUNC(N32-N32*$O$2,2) -> 50.64 | M32: =TRUNC(O32-O32*$O$2,2) -> 7.05 | N32: 64.89 | O32: 9.04
M33: =TRUNC(O33-O33*$O$2,2) -> 4.87 | N33: MO com LS => | O33: 6.24
H34: Valor com BDI => | J34: =M34 -> 47.94 | L34: =TRUNC(N34-N34*$O$2,2) -> 0 | M34: =TRUNC(O34-O34*$O$2,2) -> 47.94 | N34: 0 | O34: 61.43
M35: =TRUNC(O35-O35*$O$2,2) -> 1363.04 | N35: Preço Total => | O35: 1746.37
L36: =TRUNC(N36-N36*$O$2,2) -> 0 | M36: =TRUNC(O36-O36*$O$2,2) -> 0 | N36: 0 | O36: 0
A37: 3.3 | B37: Código | C37: Banco | D37: Descrição | E37: Tipo | G37: Und | H37: Quant. | I37: Valor Unit | J37: Total
A38: Composição | B38: 97627 | C38: SINAPI | D38: DEMOLIÇÃO DE PILARES E VIGAS EM CONCRETO ARMADO, DE FORMA MECANIZADA COM MARTELETE, SEM REAPROVEITAMENTO. AF_09/2023 | E38: SERP - SERVIÇOS PRELIMINARES | G38: m³ | H38: 1 | I38: =L38 -> 119.29 | J38: =M38 -> 119.29 | L38: =TRUNC(N38-N38*$O$2,2) -> 119.29 | M38: =TRUNC(O38-O38*$O$2,2) -> 119.29 | N38: 152.84 | O38: 152.84
A39: Composição Auxiliar | B39: 88309 | C39: SINAPI | D39: PEDREIRO COM ENCARGOS COMPLEMENTARES | E39: SEDI - SERVIÇOS DIVERSOS | G39: H | H39: 0.2034 | I39: =L39 -> 19.38 | J39: =M39 -> 3.94 | L39: =TRUNC(N39-N39*$O$2,2) -> 19.38 | M39: =TRUNC(O39-O39*$O$2,2) -> 3.94 | N39: 24.84 | O39: 5.05
A40: Composição Auxiliar | B40: 102275 | C40: SINAPI | D40: MARTELO DEMOLIDOR ELÉTRICO, COM POTÊNCIA DE 2.000 W, 1.000 IMPACTOS POR MINUTO, PESO DE 30 KG - CHP DIURNO. AF_01/2021 | E40: CHOR - CUSTOS HORÁRIOS DE MÁQUINAS E EQUIPAMENTOS | G40: CHP | H40: 3.2468 | I40: =L40 -> 17.53 | J40: =M40 -> 56.93 | L40: =TRUNC(N40-N40*$O$2,2) -> 17.53 | M40: =TRUNC(O40-O40*$O$2,2) -> 56.93 | N40: 22.47 | O40: 72.95
A41: Composição Auxiliar | B41: 102274 | C41: SINAPI | D41: MARTELO DEMOLIDOR ELÉTRICO, COM POTÊNCIA DE 2.000 W, 1.000 IMPACTOS POR MINUTO, PESO DE 30 KG - CHI DIURNO. AF_01/2021 | E41: CHOR - CUSTOS HORÁRIOS DE MÁQUINAS E EQUIPAMENTOS | G41: CHI | H41: 2.504 | I41: =L41 -> 15.36 | J41: =M41 -> 38.45 | L41: =TRUNC(N41-N41*$O$2,2) -> 15.36 | M41: =TRUNC(O41-O41*$O$2,2) -> 38.45 | N41: 19.68 | O41: 49.27
...

Sheet BDI 
A2: MINISTÉRIO PÚBLICO DO ESTADO DE ALAGOAS
A3: Objeto: | B3: Construção da nova Promotoria de Justiça de Santana do Ipanema - Não desonerado
A4: Local: | B4: Santana do Ipanema
A5: Tipo de obra: | B5: Construção de edifícios
A6: COMPOSIÇÃO ANALÍTICA DE BDI
A7: Faixa de BDI* (Acórdão 2622/2013 – TCU – Plenário): | B7: 20,34% a 25,00%
A9: DESCRIÇÃO | B9: VALORES DE REFERÊNCIA - % | E9: BDI ADOTADO - % (Inserir percentuais)
B10: 1º Quartil | C10: Médio | D10: 3º Quartil
A11: Administração Central (AC) | B11: 0.03 | C11: 0.04 | D11: 0.055 | E11: 3
A12: Seguro e Garantia (S+G) | B12: 0.008 | C12: 0.008 | D12: 0.01 | E12: 0.8
A13: Risco (R) | B13: 0.0097 | C13: 0.0127 | D13: 0.0127 | E13: 0.97
A14: Despesas Financeiras (DF) | B14: 0.0059 | C14: 0.0123 | D14: 0.0139 | E14: 0.59
A15: Lucro (L) | B15: 0.0616 | C15: 0.074 | D15: 0.0896 | E15: 6.16
A16: Impostos** (soma dos itens abaixo) | E16: =SUM(E17:E20) -> 8.65
A17: COFINS | B17: Conforme Legislação específica. | E17: 3
A18: PIS | E18: 0.65
A19: ISS*** | E19: 5
A20: INSS (Alíquota desoneração)**** | B20: 0.045 | C20: 0.045 | D20: 0.045 | E20: 0
A21: TOTAL* | E21: =TRUNC(((((1+E11/100+E12/100+E13/100)*(1+E14/100)*(1+E15/100))/(1-E16/100))-1)*100,2) -> 22.47
A22: (*) Item 9.2.1 Acórdão 2622/2013 - TCU - Plenário: Quando a taxa de BDI indicada pelo Tomador estiver fora dos patamares estipulados, o detalhamento do BDI deve ser acompanhado de relatório técnico circunstanciado, justificando a adoção do percentual adotado para cada parcela do BDI, assinado pelo profissional responsável técnico do orçamento, usando como diretriz os percentuais apresentados na tabela acima.
A23: (**) Os percentuais de Impostos a serem adotados devem ser indicados pelo Tomador, conforme legislação vigente.
A24: (***) Item 9.3.2.3 Acórdão 2622/2013 - TCU - Plenário: Para o ISS, deverão ser definidos pelo Tomador, através de declaração informativa, conforme legislação tributária municipal, a base de cálculo e, sobre esta, a respectiva alíquota do ISS, que será um percentual entre 2% e 5%.
A25: (****) A análise da planilha orçamentária COM Desoneração possibilita a consideração de alíquota de 4,5% na composição do BDI, no item tributos.
A26: Fonte da composição, valores de referência e fórmula do BDI: Acórdão 2622/2013 – TCU – Plenário
A27: Onde:
A28: AC: Administração Central
A29: S: Seguro
A30: R: Risco
A31: G: Garantia
A32: DF: Despesas Financeiras
A33: L: Lucro
... A36: _______________________________________________________________ Barbara Dantas Fernandes ABART ENGENHARIA - Engenharia Civil - Socia Administradora CREA-RN 21160338-0

Sheet ENCARGOS
A46: _______________________________________________________________ Barbara Dantas Fernandes ABART ENGENHARIA - Engenharia Civil - Socia Administradora CREA-RN 21160338-0

Sheet CURVA ABC
N1: valor total | O1: 3197835.4
D2: Construção da nova Promotoria de Justiça de Santana do Ipanema - Não desonerado | E2: SINAPI - 09/2024 - Alagoas ORSE - 06/2024 - Sergipe | G2: 22,47% | I2: Não Desonerado: Horista: 115,22% Mensalista: 70,31% | N2: valor desc | O2: 2499989 | P2: =1-O2/O1 -> 0.21822462
A3: Orçamento Sintético | N3: =O2-O3 -> 2499989 | O3: =H501 -> 0 | P3: 0.2195
A4: Item | B4: Código | C4: Banco | D4: Descrição | E4: Und | F4: Quant. | G4: Valor Unit | H4: Valor Unit com BDI | I4: Total | J4: Peso (%) | L4: Valor Unit | M4: Valor Unit com BDI | N4: Total
A5: 1.1 | B5: COMP - 12 | C5: Próprio | D5: ADMINISTRAÇÃO LOCAL | E5: un | F5: 12 | G5: =TRUNC(L5-L5*$P$3,2) -> 11761.74 | H5: =TRUNC(M5-M5*$P$3,2) -> 14404.6 | I5: =ROUND(F5*H5,2) -> 172855.2 | J5: 0.069255384 | L5: 15069.5 | M5: 18455.61 | N5: 221467.32
A6: 5.3.2.1 | B6: 92468 | C6: SINAPI | D6: MONTAGEM E DESMONTAGEM DE FÔRMA DE VIGA, ESCORAMENTO METÁLICO, PÉ-DIREITO SIMPLES, EM CHAPA DE MADEIRA PLASTIFICADA, 10 UTILIZAÇÕES. AF_09/2020 | E6: m² | F6: 1106.07 | G6: =TRUNC(L6-L6*$P$3,2) -> 125.9 | H6: =TRUNC(M6-M6*$P$3,2) -> 154.18 | I6: =ROUND(F6*H6,2) -> 170533.87 | J6: 0.068328758 | L6: 161.31 | M6: 197.55 | N6: 218504.12
A7: 5.4.2 | B7: 92488 | C7: SINAPI | D7: MONTAGEM E DESMONTAGEM DE FÔRMA DE LAJE NERVURADA COM CUBETA E ASSOALHO, PÉ-DIREITO DUPLO, EM CHAPA DE MADEIRA COMPENSADA RESINADA, 8 UTILIZAÇÕES. AF_09/2020 | E7: m² | F7: 580.66 | G7: =TRUNC(L7-L7*$P$3,2) -> 115.13 | H7: =TRUNC(M7-M7*$P$3,2) -> 140.99 | I7: =ROUND(F7*H7,2) -> 81867.25 | J7: 0.032802257 | L7: 147.51 | M7: 180.65 | N7: 104896.22
A8: 20.13 | B8: MP-0077 | C8: Próprio | D8: Caixa acorrida (1,70 x 1,80m) em estrutura em concreto armado e fechamento em pele de vidro, em vidro laminado 3+3 refletivo p/ plataforma de acessibilidade , conforme projeto, inclusive fundação. | E8: un | F8: 1 | G8: =TRUNC(L8-L8*$P$3,2) -> 63304.25 | H8: =TRUNC(M8-M8*$P$3,2) -> 77528.71 | I8: =ROUND(F8*H8,2) -> 77528.71 | J8: 0.031062299 | L8: 81107.31 | M8: 99332.12 | N8: 99332.12
A9: 10.1.3 | B9: 7607 | C9: ORSE | D9: Revestimento cerâmico para parede, 10 x 10 cm, Tecnogres, linha Brilhante, ref. BR10070 ou similar, aplicado com argamassa industrializada ac-iii, rejuntado, exclusive regularização de base ou emboço - Rev 04 | E9: m² | F9: 828.54 | G9: =TRUNC(L9-L9*$P$3,2) -> 75.24 | H9: =TRUNC(M9-M9*$P$3,2) -> 92.14 | I9: =ROUND(F9*H9,2) -> 76341.68 | J9: 0.030588638 | L9: 96.4 | M9: 118.06 | N9: 97817.43
A10: 6.1.1 | B10: 103328 | C10: SINAPI | D10: ALVENARIA DE VEDAÇÃO DE BLOCOS CERÂMICOS FURADOS NA HORIZONTAL DE 9X19X19 CM (ESPESSURA 9 CM) E ARGAMASSA DE ASSENTAMENTO COM PREPARO EM BETONEIRA. AF_12/2021 | E10: m² | F10: 804.16 | G10: =TRUNC(L10-L10*$P$3,2) -> 67.3 | H10: =TRUNC(M10-M10*$P$3,2) -> 82.42 | I10: =ROUND(F10*H10,2) -> 66278.87 | J10: 0.026555241 | L10: 86.23 | M10: 105.6 | N10: 84919.29
A11: 10.2.1 | B11: 87263 | C11: SINAPI | D11: REVESTIMENTO CERÂMICO PARA PISO COM PLACAS TIPO PORCELANATO DE DIMENSÕES 60X60 CM APLICADA EM AMBIENTES DE ÁREA MAIOR QUE 10 M². AF_02/2023_PE | E11: m² | F11: 420.85 | G11: =TRUNC(L11-L11*$P$3,2) -> 123.23 | H11: =TRUNC(M11-M11*$P$3,2) -> 150.91 | I11: =ROUND(F11*H11,2) -> 63510.47 | J11: 0.025447073 | L11: 157.89 | M11: 193.36 | N11: 81375.55
A12: 20.12 | B12: 13303 | C12: ORSE | D12: Plataforma elevatória para PNE, cabinada, modelo unilateral (UN140/1 entrada)/oposto (OP140/2 entrada) dim. cabine 900x1400x2000mm, Aço carbono pintado, fechamento Aluminio Comp.(ACM) 02 paradas perc.3m cx.corrida alvenaria, da Aptus ou Similar | E12: un | F12: 1 | G12: =TRUNC(L12-L12*$P$3,2) -> 40583.65 | H12: =TRUNC(M12-M12*$P$3,2) -> 49702.8 | I12: =ROUND(F12*H12,2) -> 49702.8 | J12: 0.019913695 | L12: 51997 | M12: 63680.72 | N12: 63680.72
A13: 5.4.11 | B13: 94972 | C13: SINAPI | D13: CONCRETO FCK = 30MPA, TRAÇO 1:2,1:2,5 (EM MASSA SECA DE CIMENTO/ AREIA MÉDIA/ BRITA 1) - PREPARO MECÂNICO COM BETONEIRA 600 L. AF_05/2021 | E13: m³ | F13: 105.52 | G13: =TRUNC(L13-L13*$P$3,2) -> 374.13 | H13: =TRUNC(M13-M13*$P$3,2) -> 458.19 | I13: =ROUND(F13*H13,2) -> 48348.21 | J13: 0.019371075 | L13: 479.35 | M13: 587.05 | N13: 61945.51
A14: 5.7.8 | B14: 94972 | C14: SINAPI | D14: CONCRETO FCK = 30MPA, TRAÇO 1:2,1:2,5 (EM MASSA SECA DE CIMENTO/ AREIA MÉDIA/ BRITA 1) - PREPARO MECÂNICO COM BETONEIRA 600 L. AF_05/2021 | E14: m³ | F14: 97.84 | G14: =TRUNC(L14-L14*$P$3,2) -> 374.13 | H14: =TRUNC(M14-M14*$P$3,2) -> 458.19 | I14: =ROUND(F14*H14,2) -> 44829.31 | J14: 0.017961203 | L14: 479.35 | M14: 587.05 | N14: 57436.97
A15: 10.1.2 | B15: 104217 | C15: SINAPI | D15: EMBOÇO OU MASSA ÚNICA EM ARGAMASSA TRAÇO 1:2:8, PREPARO MECÂNICA COM BETONEIRA 400 L, APLICADA MANUALMENTE EM PANOS DE FACHADA COM PRESENÇA DE VÃOS, ESPESSURA DE 25 MM, ACESSO POR ANDAIME. AF_08/2022 | E15: m² | F15: 828.54 | G15: =TRUNC(L15-L15*$P$3,2) -> 36.29 | H15: =TRUNC(M15-M15*$P$3,2) -> 44.44 | I15: =ROUND(F15*H15,2) -> 36820.32 | J15: 0.014752811 | L15: 46.5 | M15: 56.94 | N15: 47177.06
A16: 10.1.8 | B16: 87262 | C16: SINAPI | D16: REVESTIMENTO CERÂMICO PARA PAREDE COM PLACAS TIPO PORCELANATO DE DIMENSÕES 60X60 CM APLICADA EM AMBIENTES DE ÁREA ENTRE 5 M² E 10 M². AF_02/2023_PE | E16: m² | F16: 225.5 | G16: =TRUNC(L16-L16*$P$3,2) -> 130.78 | H16: =TRUNC(M16-M16*$P$3,2) -> 160.17 | I16: =ROUND(F16*H16,2) -> 36118.34 | J16: 0.014471386 | L16: 167.57 | M16: 205.22 | N16: 46277.11
... A497: 22.11 | B497: 7319 | C497: ORSE | D497: Sinalização para estacionamento - placa metálica 50 x 70 cm - "Estacionamento Reservado" | E497: un | F497: 12 | G497: =TRUNC(L497-L497*$P$3,2) -> 0 | H497: =TRUNC(M497-M497*$P$3,2) -> 0 | I497: =ROUND(F497*H497,2) -> 0 | J497: 0 | L497: 0 | M497: 0 | N497: 0
A502: _______________________________________________________________ Barbara Dantas Fernandes ABART ENGENHARIA - Engenharia Civil - Socia Administradora

Sheet MEMORIA DE CAL
D1: Obra | E1: Bancos | G1: B.D.I. | I1: Encargos Sociais
D2: Construção da nova Promotoria de Justiça de Santana do Ipanema - Não desonerado | E2: SINAPI - 09/2024 - Alagoas ORSE - 06/2024 - Sergipe | G2: 22,47% | I2: Não Desonerado: Horista: 115,22% Mensalista: 70,31%
A3: MEMORIAL DE CÁLCULO
A4: Item | B4: Código | C4: Banco | D4: Descrição | E4: Und | F4: Quant. | G4: Valor Unit | H4: Valor Unit com BDI | I4: Total | J4: Peso (%)
A5: 1 | D5: ADMINISTRAÇÃO DE OBRA | F5: 1 | H5: 221467.32 | I5: 221467.32 | J5: 0.069255384
A6: 1.1 | B6: COMP - 12 | C6: Próprio | D6: ADMINISTRAÇÃO LOCAL | E6: un | F6: 12 | G6: 15069.5 | H6: 18455.61 | I6: 221467.32 | J6: 0.069255384
A7: 2 | D7: MOBILIZAÇÃO | F7: 1 | H7: 6123.6 | I7: 6123.6 | J7: 0.0019149203
A8: 2.1 | B8: 92144 | C8: SINAPI | D8: CAMINHONETE CABINE SIMPLES COM MOTOR 1.6 FLEX, CÂMBIO MANUAL, POTÊNCIA 101/104 CV, 2 PORTAS - MATERIAIS NA OPERAÇÃO. AF_11/2015 | E8: H | F8: 120 | G8: 41.67 | H8: 51.03 | I8: 6123.6 | J8: 0.0019149203
A9: 3 | D9: SERVIÇOS PRELIMINARES | F9: 1 | H9: 97849.62 | I9: 97849.62 | J9: 0.030598704
A10: 3.1 | B10: MP 003 | C10: Próprio | D10: ART DE EXECUÇÃO - CREA AL | E10: und | F10: 3 | G10: 262.55 | H10: 321.54 | I10: 964.62 | J10: 0.0003016478
A11: Local | D11: Descrição | E11: Fórmula | I11: Quantidade
D12: civil | E12: 1 | I12: 1
D13: elétrica | E13: 1 | I13: 1
D14: ar condicionado | E14: 1 | I14: 1
A15: 3.2 | B15: 97625 | C15: SINAPI | D15: DEMOLIÇÃO DE ALVENARIA PARA QUALQUER TIPO DE BLOCO, DE FORMA MECANIZADA, SEM REAPROVEITAMENTO. AF_09/2023 | E15: m³ | F15: 28.42875 | G15: 50.16 | H15: 61.43 | I15: 1746.37 | J15: 0.00054611003
A16: Local | D16: Descrição | E16: Fórmula | I16: Quantidade
D17: Muro norte | E17: 30,88*2,50*0,15 | I17: 11.58
D18: Muro Sul | E18: 32,18*2,50*0,15 | I18: 12.0675
D19: Edificação existente | E19: (3,30+3,00+3,00+0,95+1,10+1,40)*2,50*0,15 | I19: 4.78125
A20: 3.3 | B20: 97627 | C20: SINAPI | D20: DEMOLIÇÃO DE PILARES E VIGAS EM CONCRETO ARMADO, DE FORMA MECANIZADA COM MARTELETE, SEM REAPROVEITAMENTO. AF_09/2023 | E20: m³ | F20: 2.36475 | G20: 152.84 | H20: 187.18 | I20: 442.63 | J20: 0.0001384155
A21: Local | D21: Descrição | E21: Fórmula | I21: Quantidade
D22: Muro norte | E22: (30,88/2,50)*(0,15*0,25*2,50) | I22: 1.158
D23: Muro Sul | E23: (32,18/2,50)*(0,15*0,25*2,50) | I23: 1.20675
A24: 3.4 | B24: 104790 | C24: SINAPI | D24: DEMOLIÇÃO DE PISO DE CONCRETO SIMPLES, DE FORMA MECANIZADA COM MARTELETE, SEM REAPROVEITAMENTO. AF_09/2023 | E24: m³ | F24: 3.6 | G24: 99.68 | H24: 122.07 | I24: 439.45 | J24: 0.00013742108
A25: Local | D25: Descrição | E25: Fórmula | I25: Quantidade
D26: edificação existente | E26: 3*12*0,10 | I26: 3.6
A27: 3.5 | B27: 9937 | C27: ORSE | D27: Limpeza mecanizada do terreno c/ retroescavadeira (vegetação rasteira) inclusive carga e transporte - dmt até 1km | E27: m² | F27: 1313.26 | G27: 1.89 | H27: 2.31 | I27: 3033.63 | J27: 0.00094865108
A28: Local | D28: Descrição | E28: Fórmula | I28: Quantidade
D29: Área do terreno ( proj. Topografia) | E29: 1313,26 | I29: 1313.26
A30: 3.6 | B30: 103689 | C30: SINAPI | D30: FORNECIMENTO E INSTALAÇÃO DE PLACA DE OBRA COM CHAPA GALVANIZADA E ESTRUTURA DE MADEIRA. AF_03/2022_PS | E30: m² | F30: 4.5 | G30: 463.06 | H30: 567.1 | I30: 2551.95 | J30: 0.00079802419
A31: Local | D31: Descrição | E31: Fórmula | I31: Quantidade
D32: Placa de obra padrão MPAL | E32: B=3*H=1,5 | I32: 4.5
A33: 3.7 | B33: 98459 | C33: SINAPI | D33: TAPUME COM TELHA METÁLICA. AF_03/2024 | E33: m² | F33: 32.18 | G33: 90.68 | H33: 111.05 | I33: 3573.58 | J33: 0.0011174997
A34: Local | D34: Descrição | E34: Fórmula | I34: Quantidade
D35: Frente (Proj. Topografia) | E35: 32,18 | I35: 32.18
A36: 3.8 | B36: 9416 | C36: ORSE | D36: Instalação provisória de energia elétrica, aerea, trifasica, em poste galvanizado, exclusive fornecimento do medidor | E36: un | F36: 1 | G36: 1644.38 | H36: 2013.87 | I36: 2013.87 | J36: 0.00062976037
A37: Local | D37: Descrição | E37: Fórmula | I37: Quantidade
D38: Instalação provisória | E38: 1 | I38: 1
A39: 3.9 | B39: 6096 | C39: ORSE | D39: Ligação Predial de Água em Mureta de Concreto, Provisória ou Definitiva, com Fornecimento de Material, inclusive Mureta e Hidrômetro, Rede DN 50mm - Rev 03_10/2022 | E39: UN | F39: 1 | G39: 543.18 | H39: 665.23 | I39: 665.23 | J39: 0.00020802509
A40: Local | D40: Descrição | E40: Fórmula | I40: Quantidade
...
